Workbook

Sheet 部数表（表）
A1: ='部数表（詳細）'!A1 -> 2026年10月 沖縄タイムス【新聞折込】部数表 | F1: ='部数表（詳細）'!F1 -> 2026/9/15現在 | H1: 2022年 4月 1日 適用
A3: 地 域 | B3: 新聞折込 | C3: 土曜宅配便 | D3: 折込+宅配便 | F3: 地 域 | G3: 新聞折込 | H3: 土曜宅配便 | I3: 折込+宅配便
A4: 南部地区 | B4: =B6+B11+B12+B13+B18+B21+B22 -> 51580 | C4: =C6+C11+C12+C13+C18+C21+C22 -> #REF! | D4: =D6+D11+D12+D13+D18+D21+D22 -> #REF! | F4: 北部地区 | G4: =SUM(G7:G19) -> 9385 | H4: =SUM(H7:H19) -> #REF! | I4: =SUM(I7:I19) -> #REF!
A6: ='部数表（詳細）'!B3 -> 那覇市 | B6: =SUM(B7:B10) -> 32000 | C6: =SUM(C7:C10) -> #REF! | D6: =SUM(D7:D10) -> #REF! | F6: ='部数表（詳細）'!F195 -> 名護市 | G6: ='部数表（詳細）'!G195 -> 4780 | H6: ='部数表（詳細）'!#REF! -> #REF! | I6: ='部数表（詳細）'!#REF! -> #REF!
A7: ='部数表（詳細）'!B5 -> （旧 那覇） | B7: ='部数表（詳細）'!C5 -> 7495 | C7: ='部数表（詳細）'!#REF! -> #REF! | D7: ='部数表（詳細）'!#REF! -> #REF! | F7: ='部数表（詳細）'!F197 -> （旧 名護） | G7: ='部数表（詳細）'!G197 -> 3190 | H7: ='部数表（詳細）'!#REF! -> #REF! | I7: ='部数表（詳細）'!#REF! -> #REF!
A8: ='部数表（詳細）'!B23 -> （旧 真和志) | B8: ='部数表（詳細）'!C23 -> 12890 | C8: ='部数表（詳細）'!#REF! -> #REF! | D8: ='部数表（詳細）'!#REF! -> #REF! | F8: ='部数表（詳細）'!F218 -> （旧 屋部） | G8: ='部数表（詳細）'!G218 -> 700 | H8: ='部数表（詳細）'!#REF! -> #REF! | I8: ='部数表（詳細）'!#REF! -> #REF!
A9: ='部数表（詳細）'!F3 -> （旧 首里） | B9: ='部数表（詳細）'!G3 -> 6645 | C9: ='部数表（詳細）'!#REF! -> #REF! | D9: ='部数表（詳細）'!#REF! -> #REF! | F9: ='部数表（詳細）'!B229 -> （旧 羽地） | G9: ='部数表（詳細）'!C229 -> 500 | H9: ='部数表（詳細）'!#REF! -> #REF! | I9: ='部数表（詳細）'!#REF! -> #REF!
A10: ='部数表（詳細）'!F16 -> （旧 小禄） | B10: ='部数表（詳細）'!G16 -> 4970 | C10: ='部数表（詳細）'!#REF! -> #REF! | D10: ='部数表（詳細）'!#REF! -> #REF! | F10: ='部数表（詳細）'!B241 -> （旧 屋我地） | G10: ='部数表（詳細）'!C241 -> 115 | H10: ='部数表（詳細）'!#REF! -> #REF! | I10: ='部数表（詳細）'!#REF! -> #REF!
A11: ='部数表（詳細）'!B48 -> 糸満市 | B11: ='部数表（詳細）'!C48 -> 4055 | C11: ='部数表（詳細）'!#REF! -> #REF! | D11: ='部数表（詳細）'!#REF! -> #REF! | F11: ='部数表（詳細）'!B249 -> （旧 久志） | G11: ='部数表（詳細）'!C249 -> 275 | H11: ='部数表（詳細）'!#REF! -> #REF! | I11: ='部数表（詳細）'!#REF! -> #REF!
A12: ='部数表（詳細）'!F27 -> 豊見城市 | B12: ='部数表（詳細）'!G27 -> 4940 | C12: ='部数表（詳細）'!#REF! -> #REF! | D12: ='部数表（詳細）'!#REF! -> #REF! | F12: ='部数表（詳細）'!F229 -> 恩納村 | G12: ='部数表（詳細）'!G229 -> 660 | H12: ='部数表（詳細）'!#REF! -> #REF! | I12: ='部数表（詳細）'!#REF! -> #REF!
A13: ='部数表（詳細）'!F48 -> 南城市 | B13: ='部数表（詳細）'!G48 -> 3700 | C13: ='部数表（詳細）'!#REF! -> #REF! | D13: ='部数表（詳細）'!#REF! -> #REF! | F13: ='部数表（詳細）'!B264 -> 金武町 | G13: ='部数表（詳細）'!C264 -> 755 | H13: ='部数表（詳細）'!#REF! -> #REF! | I13: ='部数表（詳細）'!#REF! -> #REF!
A14: ='部数表（詳細）'!F50 -> （旧 玉城村） | B14: ='部数表（詳細）'!G50 -> 860 | C14: ='部数表（詳細）'!#REF! -> #REF! | D14: ='部数表（詳細）'!#REF! -> #REF! | F14: ='部数表（詳細）'!F250 -> 宜野座村 | G14: ='部数表（詳細）'!G250 -> 475 | H14: ='部数表（詳細）'!#REF! -> #REF! | I14: ='部数表（詳細）'!#REF! -> #REF!
A15: ='部数表（詳細）'!B81 -> （旧 知念村） | B15: ='部数表（詳細）'!C81 -> 425 | C15: ='部数表（詳細）'!#REF! -> #REF! | D15: ='部数表（詳細）'!#REF! -> #REF! | F15: ='部数表（詳細）'!B274 -> 本部町 | G15: ='部数表（詳細）'!C274 -> 1130 | H15: ='部数表（詳細）'!#REF! -> #REF! | I15: ='部数表（詳細）'!#REF! -> #REF!
A16: ='部数表（詳細）'!F66 -> （旧 佐敷町） | B16: ='部数表（詳細）'!G66 -> 1185 | C16: ='部数表（詳細）'!#REF! -> #REF! | D16: ='部数表（詳細）'!#REF! -> #REF! | F16: ='部数表（詳細）'!F274 -> 今帰仁村 | G16: ='部数表（詳細）'!G274 -> 715 | H16: ='部数表（詳細）'!#REF! -> #REF! | I16: ='部数表（詳細）'!#REF! -> #REF!
A17: ='部数表（詳細）'!F76 -> （旧 大里村） | B17: ='部数表（詳細）'!G76 -> 1230 | C17: ='部数表（詳細）'!#REF! -> #REF! | D17: ='部数表（詳細）'!#REF! -> #REF! | F17: ='部数表（詳細）'!F298 -> 大宜味村 | G17: ='部数表（詳細）'!G298 -> 265 | H17: ='部数表（詳細）'!#REF! -> #REF! | I17: ='部数表（詳細）'!#REF! -> #REF!
A18: ='部数表（詳細）'!B94 -> 八重瀬町 | B18: ='部数表（詳細）'!C94 -> 2755 | C18: ='部数表（詳細）'!#REF! -> #REF! | D18: ='部数表（詳細）'!#REF! -> #REF! | F18: ='部数表（詳細）'!F260 -> 東村 | G18: ='部数表（詳細）'!G260 -> 165 | H18: ='部数表（詳細）'!#REF! -> #REF! | I18: ='部数表（詳細）'!#REF! -> #REF!
A19: ='部数表（詳細）'!B96 -> （旧 具志頭） | B19: ='部数表（詳細）'!C96 -> 980 | C19: ='部数表（詳細）'!#REF! -> #REF! | D19: ='部数表（詳細）'!#REF! -> #REF! | F19: ='部数表（詳細）'!B296 -> 国頭村 | G19: ='部数表（詳細）'!C296 -> 440 | H19: ='部数表（詳細）'!#REF! -> #REF! | I19: ='部数表（詳細）'!#REF! -> #REF!
A20: ='部数表（詳細）'!B101 -> （旧 東風平） | B20: ='部数表（詳細）'!C101 -> 1775 | C20: ='部数表（詳細）'!#REF! -> #REF! | D20: ='部数表（詳細）'!#REF! -> #REF! | F20: 本島 合計 | G20: =B4+B23+G4 -> 110360 | H20: =C4+C23+H4 -> #REF! | I20: =G20+H20 -> #REF!
A21: ='部数表（詳細）'!B109 -> 南風原町 | B21: ='部数表（詳細）'!C109 -> 2715 | C21: ='部数表（詳細）'!#REF! -> #REF! | D21: ='部数表（詳細）'!#REF! -> #REF!
A22: ='部数表（詳細）'!B121 -> 与那原町 | B22: ='部数表（詳細）'!C121 -> 1415 | C22: ='部数表（詳細）'!#REF! -> #REF! | D22: ='部数表（詳細）'!#REF! -> #REF!
A23: 中部地区 | B23: =B25+B26+B27+B28+B29+B30+B33+B34+B35+B36 -> 49395 | C23: =C25+C26+C27+C28+C29+C30+C33+C34+C35+C36 -> #REF! | D23: =D25+D26+D27+D28+D29+D30+D33+D34+D35+D36 -> #REF! | F23: ='部数表（詳細）'!B319 -> 宮 古 | G23: ='部数表（詳細）'!C319 -> 905 | H23: ='部数表（詳細）'!#REF! -> #REF! | I23: ='部数表（詳細）'!#REF! -> #REF!
F24: ='部数表（詳細）'!B332 -> 八重山 | G24: ='部数表（詳細）'!C332 -> 925 | H24: ='部数表（詳細）'!#REF! -> #REF! | I24: ='部数表（詳細）'!#REF! -> #REF!
A25: ='部数表（詳細）'!B129 -> 西原町 | B25: ='部数表（詳細）'!C129 -> 3260 | C25: ='部数表（詳細）'!#REF! -> #REF! | D25: ='部数表（詳細）'!#REF! -> #REF! | F25: ='部数表（詳細）'!B351 -> 久米島町 | G25: ='部数表（詳細）'!C351 -> 425 | H25: ='部数表（詳細）'!#REF! -> #REF! | I25: ='部数表（詳細）'!#REF! -> #REF!
A26: ='部数表（詳細）'!F94 -> 浦添市 | B26: ='部数表（詳細）'!G94 -> 10255 | C26: ='部数表（詳細）'!#REF! -> #REF! | D26: ='部数表（詳細）'!#REF! -> #REF! | F26: ='部数表（詳細）'!F319 -> 伊江村 | G26: ='部数表（詳細）'!G319 -> 460 | H26: ='部数表（詳細）'!#REF! -> #REF! | I26: ='部数表（詳細）'!#REF! -> #REF!
A27: ='部数表（詳細）'!F119 -> 宜野湾市 | B27: ='部数表（詳細）'!G119 -> 8635 | C27: ='部数表（詳細）'!#REF! -> #REF! | D27: ='部数表（詳細）'!#REF! -> #REF! | F27: ='部数表（詳細）'!F323 -> 伊是名村 | G27: ='部数表（詳細）'!G323 -> 70 | H27: ='部数表（詳細）'!#REF! -> #REF! | I27: ='部数表（詳細）'!#REF! -> #REF!
A28: ='部数表（詳細）'!B139 -> 中城村 | B28: ='部数表（詳細）'!C139 -> 1685 | C28: ='部数表（詳細）'!#REF! -> #REF! | D28: ='部数表（詳細）'!#REF! -> #REF! | F28: ='部数表（詳細）'!F327 -> 伊平屋村 | G28: ='部数表（詳細）'!G327 -> 60 | H28: ='部数表（詳細）'!#REF! -> #REF! | I28: ='部数表（詳細）'!#REF! -> #REF!
A29: ='部数表（詳細）'!B157 -> 北中城村 | B29: ='部数表（詳細）'!C157 -> 750 | C29: ='部数表（詳細）'!#REF! -> #REF! | D29: ='部数表（詳細）'!#REF! -> #REF! | F29: ='部数表（詳細）'!F335 -> 渡名喜村 | G29: ='部数表（詳細）'!G335 -> 15 | H29: ='部数表（詳細）'!#REF! -> #REF! | I29: ='部数表（詳細）'!#REF! -> #REF!
A30: ='部数表（詳細）'!B168 -> 沖縄市 | B30: ='部数表（詳細）'!C168 -> 10870 | C30: ='部数表（詳細）'!#REF! -> #REF! | D30: ='部数表（詳細）'!#REF! -> #REF! | F30: ='部数表（詳細）'!F339 -> 渡嘉敷村 | G30: ='部数表（詳細）'!G339 -> 25 | H30: ='部数表（詳細）'!#REF! -> #REF! | I30: ='部数表（詳細）'!#REF! -> #REF!
A31: ='部数表（詳細）'!B170 -> （旧 コザ） | B31: ='部数表（詳細）'!C170 -> 4285 | C31: ='部数表（詳細）'!#REF! -> #REF! | D31: ='部数表（詳細）'!#REF! -> #REF! | F31: ='部数表（詳細）'!F343 -> 座間味村 | G31: ='部数表（詳細）'!G343 -> 45 | H31: ='部数表（詳細）'!#REF! -> #REF! | I31: ='部数表（詳細）'!#REF! -> #REF!
A32: ='部数表（詳細）'!F139 -> （旧 美里） | B32: ='部数表（詳細）'!G139 -> 6585 | C32: ='部数表（詳細）'!#REF! -> #REF! | D32: ='部数表（詳細）'!#REF! -> #REF! | F32: ='部数表（詳細）'!F348 -> 粟国村 | G32: ='部数表（詳細）'!G348 -> 25 | H32: ='部数表（詳細）'!#REF! -> #REF! | I32: ='部数表（詳細）'!#REF! -> #REF!
A33: ='部数表（詳細）'!F152 -> 北谷町 | B33: ='部数表（詳細）'!G152 -> 1380 | C33: ='部数表（詳細）'!#REF! -> #REF! | D33: ='部数表（詳細）'!#REF! -> #REF! | F33: ='部数表（詳細）'!F352 -> 南大東村 | G33: ='部数表（詳細）'!G352 -> 50 | H33: ='部数表（詳細）'!#REF! -> #REF! | I33: ='部数表（詳細）'!#REF! -> #REF!
A34: ='部数表（詳細）'!F162 -> 嘉手納町 | B34: ='部数表（詳細）'!G162 -> 1245 | C34: ='部数表（詳細）'!#REF! -> #REF! | D34: ='部数表（詳細）'!#REF! -> #REF!
A35: ='部数表（詳細）'!F168 -> 読谷村 | B35: ='部数表（詳細）'!G168 -> 3305 | C35: ='部数表（詳細）'!#REF! -> #REF! | D35: ='部数表（詳細）'!#REF! -> #REF! | F35: ='部数表（詳細）'!F356 -> (県外離島) | G35: ='部数表（詳細）'!G356 -> 0 | H35: ='部数表（詳細）'!#REF! -> #REF! | I35: ='部数表（詳細）'!#REF! -> #REF!
A36: ='部数表（詳細）'!B184 -> うるま市 | B36: ='部数表（詳細）'!C184 -> 8010 | C36: ='部数表（詳細）'!#REF! -> #REF! | D36: ='部数表（詳細）'!#REF! -> #REF!
A37: ='部数表（詳細）'!B186 -> （旧 具志川) | B37: ='部数表（詳細）'!C186 -> 5225 | C37: ='部数表（詳細）'!#REF! -> #REF! | D37: ='部数表（詳細）'!#REF! -> #REF!
A38: ='部数表（詳細）'!B207 -> （旧 勝連) | B38: ='部数表（詳細）'!C207 -> 750 | C38: ='部数表（詳細）'!#REF! -> #REF! | D38: ='部数表（詳細）'!#REF! -> #REF! | F38: 離島 合計 | G38: =SUM(G23:G35) -> 3005 | H38: =SUM(H23:H35) -> #REF! | I38: =SUM(I23:I35) -> #REF!
A39: ='部数表（詳細）'!B216 -> （旧 与那城) | B39: ='部数表（詳細）'!C216 -> 465 | C39: ='部数表（詳細）'!#REF! -> #REF! | D39: ='部数表（詳細）'!#REF! -> #REF!
A40: ='部数表（詳細）'!F184 -> （旧 石川) | B40: ='部数表（詳細）'!G184 -> 1570 | C40: ='部数表（詳細）'!#REF! -> #REF! | D40: ='部数表（詳細）'!#REF! -> #REF!
A41: ※各タイムス販売店の配布エリアは、 | F41: 総 合 計 | G41: =G20+G38 -> 113365 | H41: =H20+H38 -> #REF! | I41: =G41+H41 -> #REF!
A42: 必ずしも行政区分と一致いたしません。

Sheet 部数表（詳細）
A1: 2026年10月 沖縄タイムス【新聞折込】部数表 | F1: ='折込チラシ 申込書'!O7 -> 2026/9/15現在
A2: CD | B2: 販 売 店 | C2: 新聞折込 | E2: CD | F2: 販 売 店 | G2: 新聞折込
B3: 那覇市 | C3: =C5+C23+G3+G16 -> 32000 | F3: （旧 首里） | G3: =SUM(G4:G13) -> 6645
E4: 125 | F4: 松島・古島 | G4: ='折込チラシ 申込書'!K41 -> 660
B5: （旧 那覇） | C5: =SUM(C6:C15) -> 7495 | E5: 126 | F5: 末吉 | G5: ='折込チラシ 申込書'!K42 -> 295
A6: 103 | B6: 那覇西販売センター | C6: ='折込チラシ 申込書'!K12 -> 965 | E6: 152 | F6: 首里第一 | G6: ='折込チラシ 申込書'!K43 -> 1025
A7: 105 | B7: 若狭第二 ※25年4月廃店 | C7: ='折込チラシ 申込書'!K13 -> 0 | E7: 154 | F7: 首里西 ※25年4月廃店 | G7: ='折込チラシ 申込書'!K44 -> 0
A8: 106 | B8: 松山･若狭 | C8: ='折込チラシ 申込書'!K14 -> 725 | E8: 156 | F8: 石嶺団地 | G8: ='折込チラシ 申込書'!K45 -> 685
A9: 107 | B9: 泊一丁目 | C9: ='折込チラシ 申込書'!K15 -> 640 | E9: 158 | F9: 石嶺第一 | G9: ='折込チラシ 申込書'!K46 -> 1160
A10: 108 | B10: 泊二丁目 | C10: ='折込チラシ 申込書'!K16 -> 490 | E10: 159 | F10: 石嶺四丁目 | G10: ='折込チラシ 申込書'!K47 -> 550
A11: 109 | B11: 泊・前島 | C11: ='折込チラシ 申込書'!K17 -> 520 | E11: 181 | F11: 首里西・大名(※旧 首里大名) | G11: ='折込チラシ 申込書'!K48 -> 1360
A12: 117 | B12: 那覇中央(※旧 牧志・久茂地) | C12: ='折込チラシ 申込書'!K18 -> 1975 | E12: 189 | F12: 首里東 | G12: ='折込チラシ 申込書'!K49 -> 910
A13: 138 | B13: 松尾･泉崎･樋川 | C13: ='折込チラシ 申込書'!K19 -> 985
A14: 162 | B14: 壺川市営住宅 ※25年11月廃店 | C14: ='折込チラシ 申込書'!K20 -> 0 | E14: ※25年4月 首里西（廃店）
A15: 163 | B15: 壺川 | C15: ='折込チラシ 申込書'!K21 -> 1195 | E15: ※25年4月 首里西･大名（首里西を吸収）
A16: ※25年4月 若狭第二（廃店） | F16: （旧 小禄） | G16: =SUM(G17:G24) -> 4970
A17: ※25年4月 松山･若狭（若狭第二を吸収） | E17: 169 | F17: 東小禄 | G17: ='折込チラシ 申込書'!K52 -> 1910
A18: ※25年4月 牧志･久茂地（安里センターへ一部分割） | E18: 170 | F18: 小禄宇栄原 | G18: ='折込チラシ 申込書'!K53 -> 1075
A19: ※25年4月 松尾･泉崎･樋川（安里センターへ一部分割） | E19: 171 | F19: 高良(那覇) | G19: ='折込チラシ 申込書'!K54 -> 145
A20: ※25年6月 那覇中央（安里センターを吸収） | E20: 173 | F20: 西小禄 | G20: ='折込チラシ 申込書'!K55 -> 630
A21: ※25年11月 壺川市営住宅（廃店） | E21: 174 | F21: 具志 | G21: ='折込チラシ 申込書'!K56 -> 310
A22: ※25年11月 壺川（壺川市営住宅を吸収） | E22: 182 | F22: 金城 | G22: ='折込チラシ 申込書'!K57 -> 860
B23: （旧 真和志) | C23: =SUM(C24:C39) -> 12890 | E23: 5909 | F23: 空港直送 | G23: ='折込チラシ 申込書'!K58 -> 40
A24: 111 | B24: 安謝 | C24: ='折込チラシ 申込書'!K24 -> 1030
A25: 113 | B25: 新都心北 | C25: ='折込チラシ 申込書'!K26 -> 1595
A26: 114 | B26: 新都心南 | C26: ='折込チラシ 申込書'!K27 -> 1035
A27: 122 | B27: 安里センター | C27: ='折込チラシ 申込書'!K28 -> 0 | F27: 豊見城市 | G27: =SUM(G29:G44) -> 4940
A28: 123 | B28: 真嘉比・古島 | C28: ='折込チラシ 申込書'!K29 -> 965
A29: 129 | B29: 壺屋 | C29: ='折込チラシ 申込書'!K30 -> 465 | E29: 402 | F29: 南部西販売センター | G29: ='折込チラシ 申込書'!K86 -> 850
A30: 131 | B30: 三原販売センター | C30: ='折込チラシ 申込書'!K31 -> 640 | E30: 405 | F30: 我那覇 | G30: ='折込チラシ 申込書'!K87 -> 395
A31: 132 | B31: 大道・松川 | C31: ='折込チラシ 申込書'!K32 -> 875 | E31: 409 | F31: 豊見城 | G31: ='折込チラシ 申込書'!K88 -> 345
A32: 142 | B32: 与儀・寄宮 | C32: ='折込チラシ 申込書'!K34 -> 1090 | E32: 413 | F32: 真玉橋 | G32: ='折込チラシ 申込書'!K89 -> 295
A33: 148 | B33: 上間 | C33: ='折込チラシ 申込書'!K35 -> 370 | E33: 415 | F33: 根差部･饒波 | G33: ='折込チラシ 申込書'!K90 -> 365
A34: 150 | B34: 新川真地 | C34: ='折込チラシ 申込書'!K36 -> 1565 | E34: 416 | F34: 嘉数(豊見城) | G34: ='折込チラシ 申込書'!K91 -> 445
A35: 164 | B35: 古波蔵販売センター | C35: ='折込チラシ 申込書'!K37 -> 785 | E35: 421 | F35: 与根第一 | G35: ='折込チラシ 申込書'!K93 -> 90
A36: 176 | B36: 国場識名 | C36: ='折込チラシ 申込書'!K38 -> 1355 | E36: 422 | F36: 与根第二 | G36: ='折込チラシ 申込書'!K94 -> 100
A37: 190 | B37: 真和志南 | C37: ='折込チラシ 申込書'!K39 -> 1120 | E37: 424 | F37: 豊見城東販売センター | G37: ='折込チラシ 申込書'!K95 -> 535
E38: 426 | F38: 翁長北 ※25年7月廃店 | G38: ='折込チラシ 申込書'!K96 -> 0
E39: 428 | F39: 保栄茂 | G39: ='折込チラシ 申込書'!K97 -> 70
A40: ※25年4月 安里センター(牧志･久茂地と、 | E40: 430 | F40: 豊見城ニュータウン | G40: ='折込チラシ 申込書'!K98 -> 280
...

Sheet 折込チラシ　申込書
D1: 折込日 | J1: 社名（請求先）
D2: 折込枚数 | J2: 住所
D3: サイズ | J3: クライアント名／チラシタイトル | M3: 電話/ＦＡＸ | N3: 備考：
J4: 沖縄タイムス（折込申込書）【2026年10月】 | O4: 販売店の配布エリアと、行政区
B5: 沖縄タイムス | D5: ＴＥＬ： | J5: 総合計／申込み合計 | K5: =K7+K6 -> 113365 | L5: =SUM(SUMIFS(L9:L578,P9:P578,{"2","4"})) -> 0 | M5: =SUM(SUMIFS(M9:M579,P9:P579,{"2","4"})) -> 36885 | N5: =SUM(SUMIFS(N9:N579,P9:P579,{"2","4"})) -> 0 | O5: のエリアは必ずしも一致しません。
B6: 折込チラシ部数表 | D6: ＦＡＸ： | J6: （本島合計） | K6: =SUMIFS(K9:K578,P9:P578,{"2"}) -> 110360 | L6: =SUMIFS(L9:L578,P9:P578,{"2"}) -> 0 | M6: =SUMIFS(M9:M579,P9:P579,{"2"}) -> 36885 | N6: =SUMIFS(N9:N579,P9:P579,{"2"}) -> 0 | O6: 配布ＭＡＰをご参照下さい。
B7: Mail（本社）： | D7: 担当者： | J7: （離島合計） | K7: =SUMIFS(K9:K578,P9:P578,{"4"}) -> 3005 | L7: =SUMIFS(L9:L578,P9:P578,{"4"}) -> 0 | M7: =SUMIFS(M9:M579,P9:P579,{"4"}) -> 0 | N7: =SUMIFS(N9:N579,P9:P579,{"4"}) -> 0 | O7: 2026/9/15現在
B8: Mail（中部）： | L8: ※申込枚数入力後は▼を押し「0」と「空白セル」のチェックを外してください。↓ | N8: ※申込枚数入力後は▼を押し「0」と「空白セル」のチェックを外してください。↓ | O8: ※合計・小計枠は入力できません
B9: 市町村 | D9: 地域 | H9: 販売店ｺｰﾄﾞ | I9: オンラインコード | J9: 販売店 | K9: 折込基本部数 | L9: 折込枚数 | M9: 宅配便基本数 | N9: 宅配便枚数 | O9: 備考 | P9: 備考 | Q9: 備考２（販売店エリア統合・分割・名称変更）
A10: 201 | C10: 001 | D10: 001那覇市 全域 | J10: 全域 | K10: =SUM(SUMIFS(K11:K58,$G11:$G58,{"0","1"})) -> 32000 | L10: =SUM(SUMIFS(L11:L58,$G11:$G58,{"0","1"})) -> 0 | M10: =SUM(SUMIFS(M11:M58,$G11:$G58,{"0","1"})) -> 11980 | N10: =SUM(SUMIFS(N11:N58,$G11:$G58,{"0","1"})) -> 0 | P10: 2
A11: 201 | B11: 那覇市 | C11: 001 | D11: 001那覇市（旧那覇） | J11: 小計 | K11: =SUM(SUMIFS(K12:K21,$G12:$G21,{"0","1"})) -> 7495 | L11: =SUM(SUMIFS(L12:L21,$G12:$G21,{"0","1"})) -> 0 | M11: =SUM(SUMIFS(M12:M21,$G12:$G21,{"0","1"})) -> 2500 | N11: =SUM(SUMIFS(N12:N21,$G12:$G21,{"0","1"})) -> 0 | P11: 3
A12: 201 | B12: 那覇市 | C12: 001 | D12: 那覇市（旧那覇） | G12: 0 | H12: 0000103 | I12: 47201OT01 | J12: 那覇西販売センター | K12: 965 | M12: 380 | P12: 0
A13: 201 | B13: 那覇市 | C13: 001 | D13: 那覇市（旧那覇） | G13: 0 | H13: 0000105 | I13: 47201OT03 | J13: 若狭第二 | K13: 0 | M13: 100 | P13: 0 | Q13: 25年4月廃店 松山･若狭に統合 | AI13: 2
A14: 201 | B14: 那覇市 | C14: 001 | D14: 那覇市（旧那覇） | G14: 0 | H14: 0000106 | I14: 47201OT04 | J14: 松山･若狭 | K14: 725 | M14: 130 | P14: 0 | Q14: 25年4月 若狭第二を吸収 | AH14: 1
A15: 201 | B15: 那覇市 | C15: 001 | D15: 那覇市（旧那覇） | G15: 0 | H15: 0000107 | I15: 47201OT05 | J15: 泊一丁目 | K15: 640 | M15: 120 | P15: 0
A16: 201 | B16: 那覇市 | C16: 001 | D16: 那覇市（旧那覇） | G16: 0 | H16: 0000108 | I16: 47201OT06 | J16: 泊二丁目 | K16: 490 | M16: 170 | P16: 0
A17: 201 | B17: 那覇市 | C17: 001 | D17: 那覇市（旧那覇） | G17: 0 | H17: 0000109 | I17: 47201OT07 | J17: 泊・前島 | K17: 520 | M17: 210 | P17: 0 | AH17: 1
A18: 201 | B18: 那覇市 | C18: 001 | D18: 那覇市（旧那覇） | G18: 0 | H18: 0000117 | I18: 47201OT08 | J18: 那覇中央 | K18: 1975 | M18: 385 | P18: 0 | Q18: 25年6月 牧志・久茂地が安里センターを吸収し、那覇中央へ名称変更、 | AH18: 1
A19: 201 | B19: 那覇市 | C19: 001 | D19: 那覇市（旧那覇） | G19: 0 | H19: 0000138 | I19: 47201OT09 | J19: 松尾･泉崎･樋川 | K19: 985 | M19: 515 | P19: 0 | Q19: 25年4月 安里センターへ一部分割 | AH19: 1
A20: 201 | B20: 那覇市 | C20: 001 | D20: 那覇市（旧那覇） | G20: 0 | H20: 0000162 | I20: 47201OT10 | J20: 壺川市営住宅 | K20: 0 | M20: 45 | P20: 0 | Q20: 25年11月廃店 壷川へ吸収
A21: 201 | B21: 那覇市 | C21: 001 | D21: 那覇市（旧那覇） | G21: 0 | H21: 0000163 | I21: 47201OT11 | J21: 壺川 | K21: 1195 | M21: 445 | P21: 0 | Q21: 25年11月 壺川市営住宅を吸収 | AH21: 1
A22: 201 | B22: 那覇市 | C22: 002 | D22: 002那覇市（旧真和志） | J22: 小計 | K22: =SUM(SUMIFS(K23:K39,$G23:$G39,{"0","1"})) -> 12890 | L22: =SUM(SUMIFS(L23:L39,$G23:$G39,{"0","1"})) -> 0 | M22: =SUM(SUMIFS(M23:M39,$G23:$G39,{"0","1"})) -> 4965 | N22: =SUM(SUMIFS(N23:N39,$G23:$G39,{"0","1"})) -> 0 | P22: 3
A23: 201 | B23: 那覇市 | C23: 002 | D23: 那覇市（旧真和志） | G23: 0 | H23: 0000110 | I23: 47201OT12 | J23: 天久 | K23: 0 | M23: 0 | P23: 0 | Q23: 廃店 | AI23: 2
A24: 201 | B24: 那覇市 | C24: 002 | D24: 那覇市（旧真和志） | G24: 0 | H24: 0000111 | I24: 47201OT13 | J24: 安謝 | K24: 1030 | M24: 390 | P24: 0
A25: 201 | B25: 那覇市 | C25: 002 | D25: 那覇市（旧真和志） | G25: 0 | H25: 0000112 | I25: 47201OT14 | J25: 曙 | K25: 0 | M25: 0 | P25: 0 | AI25: 2
A26: 201 | B26: 那覇市 | C26: 002 | D26: 那覇市（旧真和志） | G26: 0 | H26: 0000113 | I26: 47201OT15 | J26: 新都心北 | K26: 1595 | M26: 450 | P26: 0 | AH26: 1
A27: 201 | B27: 那覇市 | C27: 002 | D27: 那覇市（旧真和志） | G27: 0 | H27: 0000114 | I27: 47201OT16 | J27: 新都心南 | K27: 1035 | M27: 370 | P27: 0 | AH27: 1
A28: 201 | B28: 那覇市 | C28: 002 | D28: 那覇市（旧真和志） | G28: 0 | H28: 0000122 | I28: 47201OT17 | J28: 安里センター | K28: 0 | M28: 355 | P28: 0 | Q28: 25年6月廃店 旧牧志･久茂地に統合
A29: 201 | B29: 那覇市 | C29: 002 | D29: 那覇市（旧真和志） | G29: 0 | H29: 0000123 | I29: 47201OT18 | J29: 真嘉比・古島 | K29: 965 | M29: 0 | P29: 0 | AH29: 1
A30: 201 | B30: 那覇市 | C30: 002 | D30: 那覇市（旧真和志） | G30: 0 | H30: 0000129 | I30: 47201OT19 | J30: 壺屋 | K30: 465 | M30: 180 | P30: 0 | AH30: 1
A31: 201 | B31: 那覇市 | C31: 002 | D31: 那覇市（旧真和志） | G31: 0 | H31: 0000131 | I31: 47201OT20 | J31: 三原販売センター | K31: 640 | M31: 270 | P31: 0
A32: 201 | B32: 那覇市 | C32: 002 | D32: 那覇市（旧真和志） | G32: 0 | H32: 0000132 | I32: 47201OT21 | J32: 大道松川 | K32: 875 | M32: 320 | P32: 0 | AH32: 1
A33: 201 | B33: 那覇市 | C33: 002 | D33: 那覇市（旧真和志） | G33: 0 | H33: 0000133 | I33: 47201OT22 | J33: 繁多川販売センター | K33: 0 | M33: 0 | P33: 0 | AI33: 2
A34: 201 | B34: 那覇市 | C34: 002 | D34: 那覇市（旧真和志） | G34: 0 | H34: 0000142 | I34: 47201OT23 | J34: 与儀・寄宮 | K34: 1090 | M34: 445 | P34: 0
A35: 201 | B35: 那覇市 | C35: 002 | D35: 那覇市（旧真和志） | G35: 0 | H35: 0000148 | I35: 47201OT24 | J35: 上間 | K35: 370 | M35: 130 | P35: 0
A36: 201 | B36: 那覇市 | C36: 002 | D36: 那覇市（旧真和志） | G36: 0 | H36: 0000150 | I36: 47201OT25 | J36: 新川真地 | K36: 1565 | M36: 720 | P36: 0 | AH36: 1
A37: 201 | B37: 那覇市 | C37: 002 | D37: 那覇市（旧真和志） | G37: 0 | H37: 0000164 | I37: 47201OT26 | J37: 古波蔵販売センター | K37: 785 | M37: 310 | P37: 0 | AH37: 1
A38: 201 | B38: 那覇市 | C38: 002 | D38: 那覇市（旧真和志） | G38: 0 | H38: 0000176 | I38: 47201OT27 | J38: 国場識名 | K38: 1355 | M38: 595 | P38: 0 | AH38: 1
A39: 201 | B39: 那覇市 | C39: 002 | D39: 那覇市（旧真和志） | G39: 0 | H39: 0000190 | I39: 47201OT29 | J39: 真和志南 | K39: 1120 | M39: 430 | P39: 0
A40: 201 | B40: 那覇市 | C40: 003 | D40: 003那覇市（旧首里） | J40: 小計 | K40: =SUM(SUMIFS(K41:K49,$G41:$G49,{"0","1"})) -> 6645 | L40: =SUM(SUMIFS(L41:L49,$G41:$G49,{"0","1"})) -> 0 | M40: =SUM(SUMIFS(M41:M49,$G41:$G49,{"0","1"})) -> 2565 | N40: =SUM(SUMIFS(N41:N49,$G41:$G49,{"0","1"})) -> 0 | P40: 3
...

Sheet 折込チラシ全域　申込書
A1: 折込日 | C1: 社名（請求先）
A2: 折込枚数 | C2: 住所
A3: サイズ | C3: クライアント名/チラシタイトル | G3: 備考：
C4: ='折込チラシ 申込書'!J4 -> 沖縄タイムス（折込申込書）【2026年10月】 | F4: 販売店の配布エリアと、行政区
A5: 電話： | C5: 総合計／申込み合計 | D5: =D7+D6 -> 113365 | E5: =SUM(E6:E7) -> 0 | F5: のエリアは必ずしも一致しません。
A6: ＦＡＸ： | C6: （本島合計） | D6: =SUM(D10:D50) -> 110360 | E6: =SUM(E10:E50) -> 0 | F6: 配布ＭＡＰをご参照下さい。
A7: 担当者： | C7: （離島合計） | D7: =SUM(D51:D62) -> 3005 | E7: =SUM(E51:E62) -> 0 | F7: ='折込チラシ 申込書'!O7 -> 2026/9/15現在
A9: 地域 | C9: 販売店 | D9: 基本部数 | E9: 申込枚数 | F9: 備考
A10: 那覇市 （旧那覇） | C10: 全域 | D10: ='折込チラシ 申込書'!K11 -> 7495
A11: 那覇市（旧真和志） | C11: 全域 | D11: ='折込チラシ 申込書'!K22 -> 12890
A12: 那覇市 （旧首里） | C12: 全域 | D12: ='折込チラシ 申込書'!K40 -> 6645
A13: 那覇市 （旧小禄） | C13: 全域 | D13: ='折込チラシ 申込書'!K50 -> 4970
A14: 糸満市 | C14: 全域 | D14: ='折込チラシ 申込書'!K59 -> 4055
A15: 豊見城市 | C15: 全域 | D15: ='折込チラシ 申込書'!K85 -> 4940
A16: 南城市 （旧玉城村） | C16: 全域 | D16: ='折込チラシ 申込書'!K103 -> 860
A17: 南城市 （旧知念村） | C17: 全域 | D17: ='折込チラシ 申込書'!K118 -> 425
A18: 南城市 （旧佐敷町） | C18: 全域 | D18: ='折込チラシ 申込書'!K128 -> 1185
A19: 南城市 （旧大里村） | C19: 全域 | D19: ='折込チラシ 申込書'!K138 -> 1230
A20: 八重瀬町 （旧具志頭） | C20: 全域 | D20: ='折込チラシ 申込書'!K151 -> 980
A21: 八重瀬町 （旧東風平） | C21: 全域 | D21: ='折込チラシ 申込書'!K156 -> 1775
A22: 南風原町 | C22: 全域 | D22: ='折込チラシ 申込書'!K163 -> 2715
A23: 与那原町 | C23: 全域 | D23: ='折込チラシ 申込書'!K174 -> 1415
A24: 西原町 | C24: 全域 | D24: ='折込チラシ 申込書'!K180 -> 3260
A25: 浦添市 | C25: 全域 | D25: ='折込チラシ 申込書'!K189 -> 10255
A26: 宜野湾市 | C26: 全域 | D26: ='折込チラシ 申込書'!K209 -> 8635
A27: 中城村 | C27: 全域 | D27: ='折込チラシ 申込書'!K225 -> 1685
A28: 北中城村 | C28: 全域 | D28: ='折込チラシ 申込書'!K241 -> 750
A29: 沖縄市 （旧コザ） | C29: 全域 | D29: ='折込チラシ 申込書'!K249 -> 4285
A30: 沖縄市 （旧美里） | C30: 全域 | D30: ='折込チラシ 申込書'!K259 -> 6585
A31: 北谷町 | C31: 全域 | D31: ='折込チラシ 申込書'!K271 -> 1380
A32: 嘉手納町 | C32: 全域 | D32: ='折込チラシ 申込書'!K279 -> 1245
A33: 読谷村 | C33: 全域 | D33: ='折込チラシ 申込書'!K283 -> 3305
A34: うるま市 （旧具志川） | C34: 全域 | D34: ='折込チラシ 申込書'!K297 -> 5225
A35: うるま市 （旧勝連） | C35: 全域 | D35: ='折込チラシ 申込書'!K315 -> 750
A36: うるま市 （旧与那城） | C36: 全域 | D36: ='折込チラシ 申込書'!K323 -> 465
A37: うるま市 （旧石川） | C37: 全域 | D37: ='折込チラシ 申込書'!K333 -> 1570
A38: 名護市 （旧名護） | C38: 全域 | D38: ='折込チラシ 申込書'!K342 -> 3190
A39: 名護市 （旧屋部） | C39: 全域 | D39: ='折込チラシ 申込書'!K359 -> 700
A40: 名護市 （旧羽地） | C40: 全域 | D40: ='折込チラシ 申込書'!K366 -> 500
A41: 名護市 （旧屋我地） | C41: 全域 | D41: ='折込チラシ 申込書'!K377 -> 115
...
