Workbook

Sheet 部数表（表）
A1: ='部数表（詳細）'!A1 -> 2026年10月 沖縄タイムス【新聞折込】部数表 | F1: ='部数表（詳細）'!F1 -> 2026/9/15現在 | H1: 2022年 4月 1日 適用
A3: 地 域 | B3: 新聞折込 | C3: 土曜宅配便 | D3: 折込+宅配便 | F3: 地 域 | G3: 新聞折込 | H3: 土曜宅配便 | I3: 折込+宅配便
A4: 南部地区 | B4: =B6+B11+B12+B13+B18+B21+B22 -> 51580 | C4: =C6+C11+C12+C13+C18+C21+C22 -> #REF! | D4: =D6+D11+D12+D13+D18+D21+D22 -> #REF! | F4: 北部地区 | G4: =SUM(G7:G19) -> 9385 | H4: =SUM(H7:H19) -> #REF! | I4: =SUM(I7:I19) -> #REF!
A6: ='部数表（詳細）'!B3 -> 那覇市 | B6: =SUM(B7:B10) -> 32000 | C6: =SUM(C7:C10) -> #REF! | D6: =SUM(D7:D10) -> #REF! | F6: ='部数表（詳細）'!F195 -> 名護市 | G6: ='部数表（詳細）'!G195 -> 4780 | H6: ='部数表（詳細）'!#REF! -> #REF! | I6: ='部数表（詳細）'!#REF! -> #REF!
A7: ='部数表（詳細）'!B5 -> （旧 那覇） | B7: ='部数表（詳細）'!C5 -> 7495 | C7: ='部数表（詳細）'!#REF! -> #REF! | D7: ='部数表（詳細）'!#REF! -> #REF! | F7: ='部数表（詳細）'!F197 -> （旧 名護） | G7: ='部数表（詳細）'!G197 -> 3190 | H7: ='部数表（詳細）'!#REF! -> #REF! | I7: ='部数表（詳細）'!#REF! -> #REF!
A8: ='部数表（詳細）'!B23 -> （旧 真和志) | B8: ='部数表（詳細）'!C23 -> 12890 | C8: ='部数表（詳細）'!#REF! -> #REF! | D8: ='部数表（詳細）'!#REF! -> #REF! | F8: ='部数表（詳細）'!F218 -> （旧 屋部） | G8: ='部数表（詳細）'!G218 -> 700 | H8: ='部数表（詳細）'!#REF! -> #REF! | I8: ='部数表（詳細）'!#REF! -> #REF!
A9: ='部数表（詳細）'!F3 -> （旧 首里） | B9: ='部数表（詳細）'!G3 -> 6645 | C9: ='部数表（詳細）'!#REF! -> #REF! | D9: ='部数表（詳細）'!#REF! -> #REF! | F9: ='部数表（詳細）'!B229 -> （旧 羽地） | G9: ='部数表（詳細）'!C229 -> 500 | H9: ='部数表（詳細）'!#REF! -> #REF! | I9: ='部数表（詳細）'!#REF! -> #REF!
A10: ='部数表（詳細）'!F16 -> （旧 小禄） | B10: ='部数表（詳細）'!G16 -> 4970 | C10: ='部数表（詳細）'!#REF! -> #REF! | D10: ='部数表（詳細）'!#REF! -> #REF! | F10: ='部数表（詳細）'!B241 -> （旧 屋我地） | G10: ='部数表（詳細）'!C241 -> 115 | H10: ='部数表（詳細）'!#REF! -> #REF! | I10: ='部数表（詳細）'!#REF! -> #REF!
A11: ='部数表（詳細）'!B48 -> 糸満市 | B11: ='部数表（詳細）'!C48 -> 4055 | C11: ='部数表（詳細）'!#REF! -> #REF! | D11: ='部数表（詳細）'!#REF! -> #REF! | F11: ='部数表（詳細）'!B249 -> （旧 久志） | G11: ='部数表（詳細）'!C249 -> 275 | H11: ='部数表（詳細）'!#REF! -> #REF! | I11: ='部数表（詳細）'!#REF! -> #REF!
A12: ='部数表（詳細）'!F27 -> 豊見城市 | B12: ='部数表（詳細）'!G27 -> 4940 | C12: ='部数表（詳細）'!#REF! -> #REF! | D12: ='部数表（詳細）'!#REF! -> #REF! | F12: ='部数表（詳細）'!F229 -> 恩納村 | G12: ='部数表（詳細）'!G229 -> 660 | H12: ='部数表（詳細）'!#REF! -> #REF! | I12: ='部数表（詳細）'!#REF! -> #REF!
A13: ='部数表（詳細）'!F48 -> 南城市 | B13: ='部数表（詳細）'!G48 -> 3700 | C13: ='部数表（詳細）'!#REF! -> #REF! | D13: ='部数表（詳細）'!#REF! -> #REF! | F13: ='部数表（詳細）'!B264 -> 金武町 | G13: ='部数表（詳細）'!C264 -> 755 | H13: ='部数表（詳細）'!#REF! -> #REF! | I13: ='部数表（詳細）'!#REF! -> #REF!
A14: ='部数表（詳細）'!F50 -> （旧 玉城村） | B14: ='部数表（詳細）'!G50 -> 860 | C14: ='部数表（詳細）'!#REF! -> #REF! | D14: ='部数表（詳細）'!#REF! -> #REF! | F14: ='部数表（詳細）'!F250 -> 宜野座村 | G14: ='部数表（詳細）'!G250 -> 475 | H14: ='部数表（詳細）'!#REF! -> #REF! | I14: ='部数表（詳細）'!#REF! -> #REF!
A15: ='部数表（詳細）'!B81 -> （旧 知念村） | B15: ='部数表（詳細）'!C81 -> 425 | C15: ='部数表（詳細）'!#REF! -> #REF! | D15: ='部数表（詳細）'!#REF! -> #REF! | F15: ='部数表（詳細）'!B274 -> 本部町 | G15: ='部数表（詳細）'!C274 -> 1130 | H15: ='部数表（詳細）'!#REF! -> #REF! | I15: ='部数表（詳細）'!#REF! -> #REF!
A16: ='部数表（詳細）'!F66 -> （旧 佐敷町） | B16: ='部数表（詳細）'!G66 -> 1185 | C16: ='部数表（詳細）'!#REF! -> #REF! | D16: ='部数表（詳細）'!#REF! -> #REF! | F16: ='部数表（詳細）'!F274 -> 今帰仁村 | G16: ='部数表（詳細）'!G274 -> 715 | H16: ='部数表（詳細）'!#REF! -> #REF! | I16: ='部数表（詳細）'!#REF! -> #REF!
A17: ='部数表（詳細）'!F76 -> （旧 大里村） | B17: ='部数表（詳細）'!G76 -> 1230 | C17: ='部数表（詳細）'!#REF! -> #REF! | D17: ='部数表（詳細）'!#REF! -> #REF! | F17: ='部数表（詳細）'!F298 -> 大宜味村 | G17: ='部数表（詳細）'!G298 -> 265 | H17: ='部数表（詳細）'!#REF! -> #REF! | I17: ='部数表（詳細）'!#REF! -> #REF!
A18: ='部数表（詳細）'!B94 -> 八重瀬町 | B18: ='部数表（詳細）'!C94 -> 2755 | C18: ='部数表（詳細）'!#REF! -> #REF! | D18: ='部数表（詳細）'!#REF! -> #REF! | F18: ='部数表（詳細）'!F260 -> 東村 | G18: ='部数表（詳細）'!G260 -> 165 | H18: ='部数表（詳細）'!#REF! -> #REF! | I18: ='部数表（詳細）'!#REF! -> #REF!
A19: ='部数表（詳細）'!B96 -> （旧 具志頭） | B19: ='部数表（詳細）'!C96 -> 980 | C19: ='部数表（詳細）'!#REF! -> #REF! | D19: ='部数表（詳細）'!#REF! -> #REF! | F19: ='部数表（詳細）'!B296 -> 国頭村 | G19: ='部数表（詳細）'!C296 -> 440 | H19: ='部数表（詳細）'!#REF! -> #REF! | I19: ='部数表（詳細）'!#REF! -> #REF!
A20: ='部数表（詳細）'!B101 -> （旧 東風平） | B20: ='部数表（詳細）'!C101 -> 1775 | C20: ='部数表（詳細）'!#REF! -> #REF! | D20: ='部数表（詳細）'!#REF! -> #REF! | F20: 本島 合計 | G20: =B4+B23+G4 -> 110360 | H20: =C4+C23+H4 -> #REF! | I20: =G20+H20 -> #REF!
A21: ='部数表（詳細）'!B109 -> 南風原町 | B21: ='部数表（詳細）'!C109 -> 2715 | C21: ='部数表（詳細）'!#REF! -> #REF! | D21: ='部数表（詳細）'!#REF! -> #REF!
A22: ='部数表（詳細）'!B121 -> 与那原町 | B22: ='部数表（詳細）'!C121 -> 1415 | C22: ='部数表（詳細）'!#REF! -> #REF! | D22: ='部数表（詳細）'!#REF! -> #REF!
A23: 中部地区 | B23: =B25+B26+B27+B28+B29+B30+B33+B34+B35+B36 -> 49395 | C23: =C25+C26+C27+C28+C29+C30+C33+C34+C35+C36 -> #REF! | D23: =D25+D26+D27+D28+D29+D30+D33+D34+D35+D36 -> #REF! | F23: ='部数表（詳細）'!B319 -> 宮 古 | G23: ='部数表（詳細）'!C319 -> 905 | H23: ='部数表（詳細）'!#REF! -> #REF! | I23: ='部数表（詳細）'!#REF! -> #REF!
F24: ='部数表（詳細）'!B332 -> 八重山 | G24: ='部数表（詳細）'!C332 -> 925 | H24: ='部数表（詳細）'!#REF! -> #REF! | I24: ='部数表（詳細）'!#REF! -> #REF!
A25: ='部数表（詳細）'!B129 -> 西原町 | B25: ='部数表（詳細）'!C129 -> 3260 | C25: ='部数表（詳細）'!#REF! -> #REF! | D25: ='部数表（詳細）'!#REF! -> #REF! | F25: ='部数表（詳細）'!B351 -> 久米島町 | G25: ='部数表（詳細）'!C351 -> 425 | H25: ='部数表（詳細）'!#REF! -> #REF! | I25: ='部数表（詳細）'!#REF! -> #REF!
A26: ='部数表（詳細）'!F94 -> 浦添市 | B26: ='部数表（詳細）'!G94 -> 10255 | C26: ='部数表（詳細）'!#REF! -> #REF! | D26: ='部数表（詳細）'!#REF! -> #REF! | F26: ='部数表（詳細）'!F319 -> 伊江村 | G26: ='部数表（詳細）'!G319 -> 460 | H26: ='部数表（詳細）'!#REF! -> #REF! | I26: ='部数表（詳細）'!#REF! -> #REF!
A27: ='部数表（詳細）'!F119 -> 宜野湾市 | B27: ='部数表（詳細）'!G119 -> 8635 | C27: ='部数表（詳細）'!#REF! -> #REF! | D27: ='部数表（詳細）'!#REF! -> #REF! | F27: ='部数表（詳細）'!F323 -> 伊是名村 | G27: ='部数表（詳細）'!G323 -> 70 | H27: ='部数表（詳細）'!#REF! -> #REF! | I27: ='部数表（詳細）'!#REF! -> #REF!
A28: ='部数表（詳細）'!B139 -> 中城村 | B28: ='部数表（詳細）'!C139 -> 1685 | C28: ='部数表（詳細）'!#REF! -> #REF! | D28: ='部数表（詳細）'!#REF! -> #REF! | F28: ='部数表（詳細）'!F327 -> 伊平屋村 | G28: ='部数表（詳細）'!G327 -> 60 | H28: ='部数表（詳細）'!#REF! -> #REF! | I28: ='部数表（詳細）'!#REF! -> #REF!
A29: ='部数表（詳細）'!B157 -> 北中城村 | B29: ='部数表（詳細）'!C157 -> 750 | C29: ='部数表（詳細）'!#REF! -> #REF! | D29: ='部数表（詳細）'!#REF! -> #REF! | F29: ='部数表（詳細）'!F335 -> 渡名喜村 | G29: ='部数表（詳細）'!G335 -> 15 | H29: ='部数表（詳細）'!#REF! -> #REF! | I29: ='部数表（詳細）'!#REF! -> #REF!
A30: ='部数表（詳細）'!B168 -> 沖縄市 | B30: ='部数表（詳細）'!C168 -> 10870 | C30: ='部数表（詳細）'!#REF! -> #REF! | D30: ='部数表（詳細）'!#REF! -> #REF! | F30: ='部数表（詳細）'!F339 -> 渡嘉敷村 | G30: ='部数表（詳細）'!G339 -> 25 | H30: ='部数表（詳細）'!#REF! -> #REF! | I30: ='部数表（詳細）'!#REF! -> #REF!
A31: ='部数表（詳細）'!B170 -> （旧 コザ） | B31: ='部数表（詳細）'!C170 -> 4285 | C31: ='部数表（詳細）'!#REF! -> #REF! | D31: ='部数表（詳細）'!#REF! -> #REF! | F31: ='部数表（詳細）'!F343 -> 座間味村 | G31: ='部数表（詳細）'!G343 -> 45 | H31: ='部数表（詳細）'!#REF! -> #REF! | I31: ='部数表（詳細）'!#REF! -> #REF!
A32: ='部数表（詳細）'!F139 -> （旧 美里） | B32: ='部数表（詳細）'!G139 -> 6585 | C32: ='部数表（詳細）'!#REF! -> #REF! | D32: ='部数表（詳細）'!#REF! -> #REF! | F32: ='部数表（詳細）'!F348 -> 粟国村 | G32: ='部数表（詳細）'!G348 -> 25 | H32: ='部数表（詳細）'!#REF! -> #REF! | I32: ='部数表（詳細）'!#REF! -> #REF!
A33: ='部数表（詳細）'!F152 -> 北谷町 | B33: ='部数表（詳細）'!G152 -> 1380 | C33: ='部数表（詳細）'!#REF! -> #REF! | D33: ='部数表（詳細）'!#REF! -> #REF! | F33: ='部数表（詳細）'!F352 -> 南大東村 | G33: ='部数表（詳細）'!G352 -> 50 | H33: ='部数表（詳細）'!#REF! -> #REF! | I33: ='部数表（詳細）'!#REF! -> #REF!
A34: ='部数表（詳細）'!F162 -> 嘉手納町 | B34: ='部数表（詳細）'!G162 -> 1245 | C34: ='部数表（詳細）'!#REF! -> #REF! | D34: ='部数表（詳細）'!#REF! -> #REF!
A35: ='部数表（詳細）'!F168 -> 読谷村 | B35: ='部数表（詳細）'!G168 -> 3305 | C35: ='部数表（詳細）'!#REF! -> #REF! | D35: ='部数表（詳細）'!#REF! -> #REF! | F35: ='部数表（詳細）'!F356 -> (県外離島) | G35: ='部数表（詳細）'!G356 -> 0 | H35: ='部数表（詳細）'!#REF! -> #REF! | I35: ='部数表（詳細）'!#REF! -> #REF!
A36: ='部数表（詳細）'!B184 -> うるま市 | B36: ='部数表（詳細）'!C184 -> 8010 | C36: ='部数表（詳細）'!#REF! -> #REF! | D36: ='部数表（詳細）'!#REF! -> #REF!
A37: ='部数表（詳細）'!B186 -> （旧 具志川) | B37: ='部数表（詳細）'!C186 -> 5225 | C37: ='部数表（詳細）'!#REF! -> #REF! | D37: ='部数表（詳細）'!#REF! -> #REF!
A38: ='部数表（詳細）'!B207 -> （旧 勝連) | B38: ='部数表（詳細）'!C207 -> 750 | C38: ='部数表（詳細）'!#REF! -> #REF! | D38: ='部数表（詳細）'!#REF! -> #REF! | F38: 離島 合計 | G38: =SUM(G23:G35) -> 3005 | H38: =SUM(H23:H35) -> #REF! | I38: =SUM(I23:I35) -> #REF!
A39: ='部数表（詳細）'!B216 -> （旧 与那城) | B39: ='部数表（詳細）'!C216 -> 465 | C39: ='部数表（詳細）'!#REF! -> #REF! | D39: ='部数表（詳細）'!#REF! -> #REF!
A40: ='部数表（詳細）'!F184 -> （旧 石川) | B40: ='部数表（詳細）'!G184 -> 1570 | C40: ='部数表（詳細）'!#REF! -> #REF! | D40: ='部数表（詳細）'!#REF! -> #REF!
A41: ※各タイムス販売店の配布エリアは、 | F41: 総 合 計 | G41: =G20+G38 -> 113365 | H41: =H20+H38 -> #REF! | I41: =G41+H41 -> #REF!
A42: 必ずしも行政区分と一致いたしません。

Sheet 部数表（詳細）
A1: 2026年10月 沖縄タイムス【新聞折込】部数表 | F1: ='折込チラシ 申込書'!O7 -> 2026/9/15現在
A2: CD | B2: 販 売 店 | C2: 新聞折込 | E2: CD | F2: 販 売 店 | G2: 新聞折込
B3: 那覇市 | C3: =C5+C23+G3+G16 -> 32000 | F3: （旧 首里） | G3: =SUM(G4:G13) -> 6645
E4: 125 | F4: 松島・古島 | G4: ='折込チラシ 申込書'!K41 -> 660
B5: （旧 那覇） | C5: =SUM(C6:C15) -> 7495 | E5: 126 | F5: 末吉 | G5: ='折込チラシ 申込書'!K42 -> 295
A6: 103 | B6: 那覇西販売センター | C6: ='折込チラシ 申込書'!K12 -> 965 | E6: 152 | F6: 首里第一 | G6: ='折込チラシ 申込書'!K43 -> 1025
A7: 105 | B7: 若狭第二 ※25年4月廃店 | C7: ='折込チラシ 申込書'!K13 -> 0 | E7: 154 | F7: 首里西 ※25年4月廃店 | G7: ='折込チラシ 申込書'!K44 -> 0
A8: 106 | B8: 松山･若狭 | C8: ='折込チラシ 申込書'!K14 -> 725 | E8: 156 | F8: 石嶺団地 | G8: ='折込チラシ 申込書'!K45 -> 685
A9: 107 | B9: 泊一丁目 | C9: ='折込チラシ 申込書'!K15 -> 640 | E9: 158 | F9: 石嶺第一 | G9: ='折込チラシ 申込書'!K46 -> 1160
A10: 108 | B10: 泊二丁目 | C10: ='折込チラシ 申込書'!K16 -> 490 | E10: 159 | F10: 石嶺四丁目 | G10: ='折込チラシ 申込書'!K47 -> 550
A11: 109 | B11: 泊・前島 | C11: ='折込チラシ 申込書'!K17 -> 520 | E11: 181 | F11: 首里西・大名(※旧 首里大名) | G11: ='折込チラシ 申込書'!K48 -> 1360
A12: 117 | B12: 那覇中央(※旧 牧志・久茂地) | C12: ='折込チラシ 申込書'!K18 -> 1975 | E12: 189 | F12: 首里東 | G12: ='折込チラシ 申込書'!K49 -> 910
A13: 138 | B13: 松尾･泉崎･樋川 | C13: ='折込チラシ 申込書'!K19 -> 985
A14: 162 | B14: 壺川市営住宅 ※25年11月廃店 | C14: ='折込チラシ 申込書'!K20 -> 0 | E14: ※25年4月 首里西（廃店）
A15: 163 | B15: 壺川 | C15: ='折込チラシ 申込書'!K21 -> 1195 | E15: ※25年4月 首里西･大名（首里西を吸収）
A16: ※25年4月 若狭第二（廃店） | F16: （旧 小禄） | G16: =SUM(G17:G24) -> 4970
A17: ※25年4月 松山･若狭（若狭第二を吸収） | E17: 169 | F17: 東小禄 | G17: ='折込チラシ 申込書'!K52 -> 1910
A18: ※25年4月 牧志･久茂地（安里センターへ一部分割） | E18: 170 | F18: 小禄宇栄原 | G18: ='折込チラシ 申込書'!K53 -> 1075
A19: ※25年4月 松尾･泉崎･樋川（安里センターへ一部分割） | E19: 171 | F19: 高良(那覇) | G19: ='折込チラシ 申込書'!K54 -> 145
A20: ※25年6月 那覇中央（安里センターを吸収） | E20: 173 | F20: 西小禄 | G20: ='折込チラシ 申込書'!K55 -> 630
A21: ※25年11月 壺川市営住宅（廃店） | E21: 174 | F21: 具志 | G21: ='折込チラシ 申込書'!K56 -> 310
A22: ※25年11月 壺川（壺川市営住宅を吸収） | E22: 182 | F22: 金城 | G22: ='折込チラシ 申込書'!K57 -> 860
B23: （旧 真和志) | C23: =SUM(C24:C39) -> 12890 | E23: 5909 | F23: 空港直送 | G23: ='折込チラシ 申込書'!K58 -> 40
A24: 111 | B24: 安謝 | C24: ='折込チラシ 申込書'!K24 -> 1030
A25: 113 | B25: 新都心北 | C25: ='折込チラシ 申込書'!K26 -> 1595
A26: 114 | B26: 新都心南 | C26: ='折込チラシ 申込書'!K27 -> 1035
A27: 122 | B27: 安里センター | C27: ='折込チラシ 申込書'!K28 -> 0 | F27: 豊見城市 | G27: =SUM(G29:G44) -> 4940
A28: 123 | B28: 真嘉比・古島 | C28: ='折込チラシ 申込書'!K29 -> 965
A29: 129 | B29: 壺屋 | C29: ='折込チラシ 申込書'!K30 -> 465 | E29: 402 | F29: 南部西販売センター | G29: ='折込チラシ 申込書'!K86 -> 850
A30: 131 | B30: 三原販売センター | C30: ='折込チラシ 申込書'!K31 -> 640 | E30: 405 | F30: 我那覇 | G30: ='折込チラシ 申込書'!K87 -> 395
A31: 132 | B31: 大道・松川 | C31: ='折込チラシ 申込書'!K32 -> 875 | E31: 409 | F31: 豊見城 | G31: ='折込チラシ 申込書'!K88 -> 345
A32: 142 | B32: 与儀・寄宮 | C32: ='折込チラシ 申込書'!K34 -> 1090 | E32: 413 | F32: 真玉橋 | G32: ='折込チラシ 申込書'!K89 -> 295
A33: 148 | B33: 上間 | C33: ='折込チラシ 申込書'!K35 -> 370 | E33: 415 | F33: 根差部･饒波 | G33: ='折込チラシ 申込書'!K90 -> 365
A34: 150 | B34: 新川真地 | C34: ='折込チラシ 申込書'!K36 -> 1565 | E34: 416 | F34: 嘉数(豊見城) | G34: ='折込チラシ 申込書'!K91 -> 445
A35: 164 | B35: 古波蔵販売センター | C35: ='折込チラシ 申込書'!K37 -> 785 | E35: 421 | F35: 与根第一 | G35: ='折込チラシ 申込書'!K93 -> 90
A36: 176 | B36: 国場識名 | C36: ='折込チラシ 申込書'!K38 -> 1355 | E36: 422 | F36: 与根第二 | G36: ='折込チラシ 申込書'!K94 -> 100
A37: 190 | B37: 真和志南 | C37: ='折込チラシ 申込書'!K39 -> 1120 | E37: 424 | F37: 豊見城東販売センター | G37: ='折込チラシ 申込書'!K95 -> 535
E38: 426 | F38: 翁長北 ※25年7月廃店 | G38: ='折込チラシ 申込書'!K96 -> 0
E39: 428 | F39: 保栄茂 | G39: ='折込チラシ 申込書'!K97 -> 70
A40: ※25年4月 安里センター(牧志･久茂地と、 | E40: 430 | F40: 豊見城ニュータウン | G40: ='折込チラシ 申込書'!K98 -> 280
A41: 松尾･泉崎･樋川の一部を吸収） | E41: 431 | F41: 上田 | G41: ='折込チラシ 申込書'!K99 -> 370
A42: ※25年6月 安里センター(廃店) 那覇中央へ統合 | E42: 432 | F42: 豊見城販売センター | G42: ='折込チラシ 申込書'!K100 -> 800
E45: ※25年7月 翁長北（廃店）
E46: ※25年7月 南部西販売センター（翁長北を吸収）
B48: 糸満市 | C48: =SUM(C50:C72) -> 4055 | F48: 南城市 | G48: =SUM(G50+G66+C81+G76) -> 3700
A50: 306 | B50: 兼城ハイツ | C50: ='折込チラシ 申込書'!K60 -> 105 | F50: （旧 玉城村） | G50: =SUM(G51:G64) -> 860
A51: 308 | B51: 糸満第一 | C51: ='折込チラシ 申込書'!K61 -> 580 | E51: 701 | F51: 前川 | G51: ='折込チラシ 申込書'!K104 -> 80
A52: 310 | B52: 真栄里 | C52: ='折込チラシ 申込書'!K62 -> 90 | E52: 702 | F52: 船越 | G52: ='折込チラシ 申込書'!K105 -> 90
A53: 316 | B53: 糸満第三(糸満) | C53: ='折込チラシ 申込書'!K63 -> 245 | E53: 703 | F53: 糸数 | G53: ='折込チラシ 申込書'!K106 -> 55
A54: 321 | B54: 米須･大度(※旧 米須) | C54: ='折込チラシ 申込書'!K64 -> 195 | E54: 705 | F54: 當山･屋嘉部(玉城) | G54: ='折込チラシ 申込書'!K107 -> 70
A55: 322 | B55: 大度 ※25年5月廃店 | C55: ='折込チラシ 申込書'!K65 -> 0 | E55: 706 | F55: 富里 | G55: ='折込チラシ 申込書'!K108 -> 75
A56: 325 | B56: 宇江城(糸満) ※25年5月廃店 | C56: ='折込チラシ 申込書'!K66 -> 0 | E56: 708 | F56: 志堅原 | G56: ='折込チラシ 申込書'!K109 -> 40
A57: 326 | B57: 真栄平・宇江城(※旧 真栄平) | C57: ='折込チラシ 申込書'!K67 -> 65 | E57: 709 | F57: 奥武 | G57: ='折込チラシ 申込書'!K110 -> 50
A58: 328 | B58: 国吉 ※25年4月廃店 | C58: ='折込チラシ 申込書'!K68 -> 0 | E58: 711 | F58: 堀川 | G58: ='折込チラシ 申込書'!K111 -> 25
A59: 335 | B59: 座波 | C59: ='折込チラシ 申込書'!K69 -> 190 | E59: 713 | F59: 玉城愛地 | G59: ='折込チラシ 申込書'!K112 -> 85
A60: 337 | B60: 北波平 | C60: ='折込チラシ 申込書'!K70 -> 45 | E60: 714 | F60: 親慶原 | G60: ='折込チラシ 申込書'!K113 -> 60
A61: 338 | B61: 武富 | C61: ='折込チラシ 申込書'!K71 -> 70 | E61: 716 | F61: 喜良原･下親慶原 | G61: ='折込チラシ 申込書'!K114 -> 60
A62: 343 | B62: 糸満南 | C62: ='折込チラシ 申込書'!K73 -> 480 | E62: 718 | F62: 垣花 | G62: ='折込チラシ 申込書'!K115 -> 35
A63: 344 | B63: 西崎西 | C63: ='折込チラシ 申込書'!K74 -> 365 | E63: 719 | F63: 百名 | G63: ='折込チラシ 申込書'!K116 -> 120
A64: 348 | B64: 真壁 ※26年4月廃店 | C64: ='折込チラシ 申込書'!K75 -> 0 | E64: 720 | F64: 新原 | G64: ='折込チラシ 申込書'!K117 -> 15
A65: 350 | B65: 西崎東 | C65: ='折込チラシ 申込書'!K76 -> 805
A66: 351 | B66: 糸満照屋・国吉(※旧 糸満照屋) | C66: ='折込チラシ 申込書'!K77 -> 335 | F66: （旧 佐敷町） | G66: =SUM(G67:G74) -> 1185
A67: 352 | B67: 糸満大里 | C67: ='折込チラシ 申込書'!K78 -> 185 | E67: 1001 | F67: 馬天 | G67: ='折込チラシ 申込書'!K129 -> 355
A68: 354 | B68: 糸満喜屋武 | C68: ='折込チラシ 申込書'!K80 -> 75 | E68: 1002 | F68: 小谷 | G68: ='折込チラシ 申込書'!K130 -> 25
A69: 336 | B69: 賀数 | C69: ='折込チラシ 申込書'!K81 -> 150 | E69: 1003 | F69: 新開 | G69: ='折込チラシ 申込書'!K131 -> 325
A70: 355 | B70: 糸満豊原(26年１月新店舗) | C70: ='折込チラシ 申込書'!K82 -> 25 | E70: 1006 | F70: 佐敷 | G70: ='折込チラシ 申込書'!K132 -> 70
A71: 356 | B71: 糸満新垣(26年２月新店舗) | C71: ='折込チラシ 申込書'!K83 -> 25 | E71: 1007 | F71: 手登根 | G71: ='折込チラシ 申込書'!K133 -> 80
A72: 357 | B72: 摩文仁(26年２月新店舗) | C72: ='折込チラシ 申込書'!K84 -> 25 | E72: 1008 | F72: 伊原(佐敷) | G72: ='折込チラシ 申込書'!K134 -> 30
A73: ※25年4月 国吉（廃店） ※25年4月 糸満照屋･国吉（国吉を吸収） | E73: 1011 | F73: つきしろ | G73: ='折込チラシ 申込書'!K136 -> 145
A74: ※25年5月 大度（廃店） → 米須･大度（大度を吸収） | E74: 1012 | F74: 仲伊保 | G74: ='折込チラシ 申込書'!K137 -> 155
A75: ※25年5月 宇江城（廃店）→真栄平･宇江城（宇江城を吸収）
A76: ※26年1月 糸満豊原（新店舗）八重瀬志多伯から一部分割 | F76: （旧 大里村） | G76: =SUM(G77:G87) -> 1230
A77: ※26年2月 摩文仁(新店舗)→真壁から一部分割 | E77: 801 | F77: 平川 | G77: ='折込チラシ 申込書'!K139 -> 40
A78: ※26年2月 糸満新垣(新店舗) →真壁から一部分割 | E78: 802 | F78: 高宮城 | G78: ='折込チラシ 申込書'!K140 -> 20
A79: ※26年3月 真壁から糸満３へ一部分割 | E79: 803 | F79: 大城 | G79: ='折込チラシ 申込書'!K141 -> 120
A80: ※26年3月 真壁（廃店） →糸満３（真壁を吸収） | E80: 804 | F80: 大里南販売センター | G80: ='折込チラシ 申込書'!K142 -> 615
B81: （旧 知念村） | C81: =SUM(C82:C90) -> 425 | E81: 806 | F81: 嶺井 | G81: ='折込チラシ 申込書'!K143 -> 70
A82: 1101 | B82: 久原 | C82: ='折込チラシ 申込書'!K119 -> 40 | E82: 810 | F82: 島袋･福原 | G82: ='折込チラシ 申込書'!K144 -> 110
A83: 1102 | B83: 海野 | C83: ='折込チラシ 申込書'!K120 -> 80 | E83: 811 | F83: 銭又(大里) | G83: ='折込チラシ 申込書'!K145 -> 20
A84: 1103 | B84: 板馬（※旧 知名) | C84: ='折込チラシ 申込書'!K121 -> 15 | E84: 814 | F84: 西原(大里) | G84: ='折込チラシ 申込書'!K146 -> 15
A85: 1104 | B85: 板馬 ※25年7月新設→8月廃店 | C85: ='折込チラシ 申込書'!K122 -> 0 | E85: 816 | F85: 当間(大里) | G85: ='折込チラシ 申込書'!K147 -> 65
A86: 1105 | B86: 安座真･久手堅 | C86: ='折込チラシ 申込書'!K123 -> 100 | E86: 818 | F86: 古堅(大里) | G86: ='折込チラシ 申込書'!K148 -> 50
A87: 1108 | B87: 知念 | C87: ='折込チラシ 申込書'!K124 -> 65 | E87: 819 | F87: 嶺井団地(大里) | G87: ='折込チラシ 申込書'!K149 -> 105
A88: 1110 | B88: 山里(知念) | C88: ='折込チラシ 申込書'!K125 -> 30
A89: 1111 | B89: 志喜屋 | C89: ='折込チラシ 申込書'!K126 -> 80
A90: 1112 | B90: 久高島 | C90: ='折込チラシ 申込書'!K127 -> 15
A91: ※25年7月（知名）板馬へ分割 | E91: ※25年8月 海野（板馬(旧知名)から一部吸収）
A92: ※25年7月（板馬）知名から分割 | E92: ※25年8月 海野（板馬を統合）
A93: ※25年8月 知名（板馬に名称変更） | E93: ※25年8月 板馬廃店（海野に統合）
B94: 八重瀬町 | C94: =SUM(C96+C101) -> 2755 | F94: 浦添市 | G94: =SUM(G96:G114) -> 10255
B96: （旧 具志頭） | C96: =SUM(C97:C99) -> 980 | E96: 205 | F96: 浦添東１ | G96: ='折込チラシ 申込書'!K190 -> 985
A97: 1202 | B97: 具志頭販売センター | C97: ='折込チラシ 申込書'!K152 -> 555 | E97: 207 | F97: 城間 | G97: ='折込チラシ 申込書'!K191 -> 720
A98: 1206 | B98: 安里(具志頭) | C98: ='折込チラシ 申込書'!K154 -> 240 | E98: 209 | F98: 宮城･屋富祖三丁目 | G98: ='折込チラシ 申込書'!K192 -> 715
A99: 1209 | B99: 後原(具志頭) | C99: ='折込チラシ 申込書'!K155 -> 185 | E99: 210 | F99: 上港川 | G99: ='折込チラシ 申込書'!K193 -> 675
E100: 212 | F100: 浦添中央センター | G100: ='折込チラシ 申込書'!K194 -> 685
B101: （旧 東風平） | C101: =SUM(C102:C107) -> 1775 | E101: 213 | F101: 伊祖第二 | G101: ='折込チラシ 申込書'!K195 -> 135
A102: 603 | B102: 友寄･伊覇 | C102: ='折込チラシ 申込書'!K157 -> 810 | E102: 214 | F102: 牧港中央販売センター ※25年11月廃店 | G102: ='折込チラシ 申込書'!K196 -> 0
A103: 606 | B103: 高良(東風平) | C103: ='折込チラシ 申込書'!K158 -> 20 | E103: 217 | F103: 牧港・下港川（※旧下港川） | G103: ='折込チラシ 申込書'!K198 -> 900
A104: 609 | B104: 東風平販売センター | C104: ='折込チラシ 申込書'!K159 -> 740 | E104: 222 | F104: 仲間 | G104: ='折込チラシ 申込書'!K200 -> 710
A105: 613 | B105: 上田原 | C105: ='折込チラシ 申込書'!K160 -> 40 | E105: 224 | F105: 当山(浦添) ※25年11月廃店 | G105: ='折込チラシ 申込書'!K201 -> 0
...

Sheet 折込チラシ　申込書
D1: 折込日 | J1: 社名（請求先）
D2: 折込枚数 | J2: 住所
D3: サイズ | J3: クライアント名／チラシタイトル | M3: 電話/ＦＡＸ | N3: 備考：
J4: 沖縄タイムス（折込申込書）【2026年10月】 | O4: 販売店の配布エリアと、行政区
B5: 沖縄タイムス | D5: ＴＥＬ： | J5: 総合計／申込み合計 | K5: =K7+K6 -> 113365 | L5: =SUM(SUMIFS(L9:L578,P9:P578,{"2","4"})) -> 0 | M5: =SUM(SUMIFS(M9:M579,P9:P579,{"2","4"})) -> 36885 | N5: =SUM(SUMIFS(N9:N579,P9:P579,{"2","4"})) -> 0 | O5: のエリアは必ずしも一致しません。
B6: 折込チラシ部数表 | D6: ＦＡＸ： | J6: （本島合計） | K6: =SUMIFS(K9:K578,P9:P578,{"2"}) -> 110360 | L6: =SUMIFS(L9:L578,P9:P578,{"2"}) -> 0 | M6: =SUMIFS(M9:M579,P9:P579,{"2"}) -> 36885 | N6: =SUMIFS(N9:N579,P9:P579,{"2"}) -> 0 | O6: 配布ＭＡＰをご参照下さい。
B7: Mail（本社）： | D7: 担当者： | J7: （離島合計） | K7: =SUMIFS(K9:K578,P9:P578,{"4"}) -> 3005 | L7: =SUMIFS(L9:L578,P9:P578,{"4"}) -> 0 | M7: =SUMIFS(M9:M579,P9:P579,{"4"}) -> 0 | N7: =SUMIFS(N9:N579,P9:P579,{"4"}) -> 0 | O7: 2026/9/15現在
B8: Mail（中部）： | L8: ※申込枚数入力後は▼を押し「0」と「空白セル」のチェックを外してください。↓ | N8: ※申込枚数入力後は▼を押し「0」と「空白セル」のチェックを外してください。↓ | O8: ※合計・小計枠は入力できません
B9: 市町村 | D9: 地域 | H9: 販売店ｺｰﾄﾞ | I9: オンラインコード | J9: 販売店 | K9: 折込基本部数 | L9: 折込枚数 | M9: 宅配便基本数 | N9: 宅配便枚数 | O9: 備考 | P9: 備考 | Q9: 備考２（販売店エリア統合・分割・名称変更）
A10: 201 | C10: 001 | D10: 001那覇市 全域 | J10: 全域 | K10: =SUM(SUMIFS(K11:K58,$G11:$G58,{"0","1"})) -> 32000 | L10: =SUM(SUMIFS(L11:L58,$G11:$G58,{"0","1"})) -> 0 | M10: =SUM(SUMIFS(M11:M58,$G11:$G58,{"0","1"})) -> 11980 | N10: =SUM(SUMIFS(N11:N58,$G11:$G58,{"0","1"})) -> 0 | P10: 2
A11: 201 | B11: 那覇市 | C11: 001 | D11: 001那覇市（旧那覇） | J11: 小計 | K11: =SUM(SUMIFS(K12:K21,$G12:$G21,{"0","1"})) -> 7495 | L11: =SUM(SUMIFS(L12:L21,$G12:$G21,{"0","1"})) -> 0 | M11: =SUM(SUMIFS(M12:M21,$G12:$G21,{"0","1"})) -> 2500 | N11: =SUM(SUMIFS(N12:N21,$G12:$G21,{"0","1"})) -> 0 | P11: 3
A12: 201 | B12: 那覇市 | C12: 001 | D12: 那覇市（旧那覇） | G12: 0 | H12: 0000103 | I12: 47201OT01 | J12: 那覇西販売センター | K12: 965 | M12: 380 | P12: 0
A13: 201 | B13: 那覇市 | C13: 001 | D13: 那覇市（旧那覇） | G13: 0 | H13: 0000105 | I13: 47201OT03 | J13: 若狭第二 | K13: 0 | M13: 100 | P13: 0 | Q13: 25年4月廃店 松山･若狭に統合 | AI13: 2
A14: 201 | B14: 那覇市 | C14: 001 | D14: 那覇市（旧那覇） | G14: 0 | H14: 0000106 | I14: 47201OT04 | J14: 松山･若狭 | K14: 725 | M14: 130 | P14: 0 | Q14: 25年4月 若狭第二を吸収 | AH14: 1
A15: 201 | B15: 那覇市 | C15: 001 | D15: 那覇市（旧那覇） | G15: 0 | H15: 0000107 | I15: 47201OT05 | J15: 泊一丁目 | K15: 640 | M15: 120 | P15: 0
A16: 201 | B16: 那覇市 | C16: 001 | D16: 那覇市（旧那覇） | G16: 0 | H16: 0000108 | I16: 47201OT06 | J16: 泊二丁目 | K16: 490 | M16: 170 | P16: 0
A17: 201 | B17: 那覇市 | C17: 001 | D17: 那覇市（旧那覇） | G17: 0 | H17: 0000109 | I17: 47201OT07 | J17: 泊・前島 | K17: 520 | M17: 210 | P17: 0 | AH17: 1
A18: 201 | B18: 那覇市 | C18: 001 | D18: 那覇市（旧那覇） | G18: 0 | H18: 0000117 | I18: 47201OT08 | J18: 那覇中央 | K18: 1975 | M18: 385 | P18: 0 | Q18: 25年6月 牧志・久茂地が安里センターを吸収し、那覇中央へ名称変更、 | AH18: 1
A19: 201 | B19: 那覇市 | C19: 001 | D19: 那覇市（旧那覇） | G19: 0 | H19: 0000138 | I19: 47201OT09 | J19: 松尾･泉崎･樋川 | K19: 985 | M19: 515 | P19: 0 | Q19: 25年4月 安里センターへ一部分割 | AH19: 1
A20: 201 | B20: 那覇市 | C20: 001 | D20: 那覇市（旧那覇） | G20: 0 | H20: 0000162 | I20: 47201OT10 | J20: 壺川市営住宅 | K20: 0 | M20: 45 | P20: 0 | Q20: 25年11月廃店 壷川へ吸収
A21: 201 | B21: 那覇市 | C21: 001 | D21: 那覇市（旧那覇） | G21: 0 | H21: 0000163 | I21: 47201OT11 | J21: 壺川 | K21: 1195 | M21: 445 | P21: 0 | Q21: 25年11月 壺川市営住宅を吸収 | AH21: 1
A22: 201 | B22: 那覇市 | C22: 002 | D22: 002那覇市（旧真和志） | J22: 小計 | K22: =SUM(SUMIFS(K23:K39,$G23:$G39,{"0","1"})) -> 12890 | L22: =SUM(SUMIFS(L23:L39,$G23:$G39,{"0","1"})) -> 0 | M22: =SUM(SUMIFS(M23:M39,$G23:$G39,{"0","1"})) -> 4965 | N22: =SUM(SUMIFS(N23:N39,$G23:$G39,{"0","1"})) -> 0 | P22: 3
A23: 201 | B23: 那覇市 | C23: 002 | D23: 那覇市（旧真和志） | G23: 0 | H23: 0000110 | I23: 47201OT12 | J23: 天久 | K23: 0 | M23: 0 | P23: 0 | Q23: 廃店 | AI23: 2
A24: 201 | B24: 那覇市 | C24: 002 | D24: 那覇市（旧真和志） | G24: 0 | H24: 0000111 | I24: 47201OT13 | J24: 安謝 | K24: 1030 | M24: 390 | P24: 0
A25: 201 | B25: 那覇市 | C25: 002 | D25: 那覇市（旧真和志） | G25: 0 | H25: 0000112 | I25: 47201OT14 | J25: 曙 | K25: 0 | M25: 0 | P25: 0 | AI25: 2
A26: 201 | B26: 那覇市 | C26: 002 | D26: 那覇市（旧真和志） | G26: 0 | H26: 0000113 | I26: 47201OT15 | J26: 新都心北 | K26: 1595 | M26: 450 | P26: 0 | AH26: 1
A27: 201 | B27: 那覇市 | C27: 002 | D27: 那覇市（旧真和志） | G27: 0 | H27: 0000114 | I27: 47201OT16 | J27: 新都心南 | K27: 1035 | M27: 370 | P27: 0 | AH27: 1
A28: 201 | B28: 那覇市 | C28: 002 | D28: 那覇市（旧真和志） | G28: 0 | H28: 0000122 | I28: 47201OT17 | J28: 安里センター | K28: 0 | M28: 355 | P28: 0 | Q28: 25年6月廃店 旧牧志･久茂地に統合
A29: 201 | B29: 那覇市 | C29: 002 | D29: 那覇市（旧真和志） | G29: 0 | H29: 0000123 | I29: 47201OT18 | J29: 真嘉比・古島 | K29: 965 | M29: 0 | P29: 0 | AH29: 1
A30: 201 | B30: 那覇市 | C30: 002 | D30: 那覇市（旧真和志） | G30: 0 | H30: 0000129 | I30: 47201OT19 | J30: 壺屋 | K30: 465 | M30: 180 | P30: 0 | AH30: 1
A31: 201 | B31: 那覇市 | C31: 002 | D31: 那覇市（旧真和志） | G31: 0 | H31: 0000131 | I31: 47201OT20 | J31: 三原販売センター | K31: 640 | M31: 270 | P31: 0
A32: 201 | B32: 那覇市 | C32: 002 | D32: 那覇市（旧真和志） | G32: 0 | H32: 0000132 | I32: 47201OT21 | J32: 大道松川 | K32: 875 | M32: 320 | P32: 0 | AH32: 1
A33: 201 | B33: 那覇市 | C33: 002 | D33: 那覇市（旧真和志） | G33: 0 | H33: 0000133 | I33: 47201OT22 | J33: 繁多川販売センター | K33: 0 | M33: 0 | P33: 0 | AI33: 2
A34: 201 | B34: 那覇市 | C34: 002 | D34: 那覇市（旧真和志） | G34: 0 | H34: 0000142 | I34: 47201OT23 | J34: 与儀・寄宮 | K34: 1090 | M34: 445 | P34: 0
A35: 201 | B35: 那覇市 | C35: 002 | D35: 那覇市（旧真和志） | G35: 0 | H35: 0000148 | I35: 47201OT24 | J35: 上間 | K35: 370 | M35: 130 | P35: 0
A36: 201 | B36: 那覇市 | C36: 002 | D36: 那覇市（旧真和志） | G36: 0 | H36: 0000150 | I36: 47201OT25 | J36: 新川真地 | K36: 1565 | M36: 720 | P36: 0 | AH36: 1
A37: 201 | B37: 那覇市 | C37: 002 | D37: 那覇市（旧真和志） | G37: 0 | H37: 0000164 | I37: 47201OT26 | J37: 古波蔵販売センター | K37: 785 | M37: 310 | P37: 0 | AH37: 1
A38: 201 | B38: 那覇市 | C38: 002 | D38: 那覇市（旧真和志） | G38: 0 | H38: 0000176 | I38: 47201OT27 | J38: 国場識名 | K38: 1355 | M38: 595 | P38: 0 | AH38: 1
A39: 201 | B39: 那覇市 | C39: 002 | D39: 那覇市（旧真和志） | G39: 0 | H39: 0000190 | I39: 47201OT29 | J39: 真和志南 | K39: 1120 | M39: 430 | P39: 0
A40: 201 | B40: 那覇市 | C40: 003 | D40: 003那覇市（旧首里） | J40: 小計 | K40: =SUM(SUMIFS(K41:K49,$G41:$G49,{"0","1"})) -> 6645 | L40: =SUM(SUMIFS(L41:L49,$G41:$G49,{"0","1"})) -> 0 | M40: =SUM(SUMIFS(M41:M49,$G41:$G49,{"0","1"})) -> 2565 | N40: =SUM(SUMIFS(N41:N49,$G41:$G49,{"0","1"})) -> 0 | P40: 3
A41: 201 | B41: 那覇市 | C41: 003 | D41: 那覇市（旧首里） | G41: 0 | H41: 0000125 | I41: 47201OT30 | J41: 松島・古島 | K41: 660 | M41: 250 | P41: 0
A42: 201 | B42: 那覇市 | C42: 003 | D42: 那覇市（旧首里） | G42: 0 | H42: 0000126 | I42: 47201OT31 | J42: 末吉 | K42: 295 | M42: 115 | P42: 0
A43: 201 | B43: 那覇市 | C43: 003 | D43: 那覇市（旧首里） | G43: 0 | H43: 0000152 | I43: 47201OT32 | J43: 首里第一 | K43: 1025 | M43: 395 | P43: 0 | AH43: 1
A44: 201 | B44: 那覇市 | C44: 003 | D44: 那覇市（旧首里） | G44: 0 | H44: 0000154 | I44: 47201OT33 | J44: 首里西 | K44: 0 | M44: 285 | P44: 0 | Q44: 25年4月廃店 首里大名に統合
A45: 201 | B45: 那覇市 | C45: 003 | D45: 那覇市（旧首里） | G45: 0 | H45: 0000156 | I45: 47201OT34 | J45: 石嶺団地 | K45: 685 | M45: 275 | P45: 0 | AH45: 1
A46: 201 | B46: 那覇市 | C46: 003 | D46: 那覇市（旧首里） | G46: 0 | H46: 0000158 | I46: 47201OT35 | J46: 石嶺第一 | K46: 1160 | M46: 430 | P46: 0
A47: 201 | B47: 那覇市 | C47: 003 | D47: 那覇市（旧首里） | G47: 0 | H47: 0000159 | I47: 47201OT36 | J47: 石嶺四丁目 | K47: 550 | M47: 205 | P47: 0
A48: 201 | B48: 那覇市 | C48: 003 | D48: 那覇市（旧首里） | G48: 0 | H48: 0000181 | I48: 47201OT37 | J48: 首里西・大名 | K48: 1360 | M48: 250 | P48: 0 | Q48: 25年4月 首里大名が首里西を吸収し、首里西・大名へ名称変更
A49: 201 | B49: 那覇市 | C49: 003 | D49: 那覇市（旧首里） | G49: 0 | H49: 0000189 | I49: 47201OT38 | J49: 首里東 | K49: 910 | M49: 360 | P49: 0 | AH49: 1
A50: 201 | B50: 那覇市 | C50: 004 | D50: 004那覇市（旧小禄） | J50: 小計 | K50: =SUM(SUMIFS(K51:K58,$G51:$G58,{"0","1"})) -> 4970 | L50: =SUM(SUMIFS(L51:L58,$G51:$G58,{"0","1"})) -> 0 | M50: =SUM(SUMIFS(M51:M58,$G51:$G58,{"0","1"})) -> 1950 | N50: =SUM(SUMIFS(N51:N58,$G51:$G58,{"0","1"})) -> 0 | P50: 3
A51: 201 | B51: 那覇市 | C51: 004 | D51: 那覇市（旧小禄） | G51: 0 | H51: 0000168 | I51: 47201OT39 | J51: 鏡原･山下 | K51: 0 | M51: 0 | P51: 0 | Q51: 廃店（東小禄に統合） | AI51: 2
A52: 201 | B52: 那覇市 | C52: 004 | D52: 那覇市（旧小禄） | G52: 0 | H52: 0000169 | I52: 47201OT40 | J52: 東小禄 | K52: 1910 | M52: 640 | P52: 0 | AH52: 1
A53: 201 | B53: 那覇市 | C53: 004 | D53: 那覇市（旧小禄） | G53: 0 | H53: 0000170 | I53: 47201OT41 | J53: 小禄宇栄原 | K53: 1075 | M53: 560 | P53: 0 | AH53: 1
A54: 201 | B54: 那覇市 | C54: 004 | D54: 那覇市（旧小禄） | G54: 0 | H54: 0000171 | I54: 47201OT42 | J54: 高良(那覇) | K54: 145 | M54: 65 | P54: 0
A55: 201 | B55: 那覇市 | C55: 004 | D55: 那覇市（旧小禄） | G55: 0 | H55: 0000173 | I55: 47201OT43 | J55: 西小禄 | K55: 630 | M55: 250 | P55: 0
A56: 201 | B56: 那覇市 | C56: 004 | D56: 那覇市（旧小禄） | G56: 0 | H56: 0000174 | I56: 47201OT44 | J56: 具志 | K56: 310 | M56: 100 | P56: 0
A57: 201 | B57: 那覇市 | C57: 004 | D57: 那覇市（旧小禄） | G57: 0 | H57: 0000182 | I57: 47201OT45 | J57: 金城 | K57: 860 | M57: 335 | P57: 0
A58: 201 | B58: 那覇市 | C58: 004 | D58: 那覇市（旧小禄） | G58: 0 | H58: 0005909 | I58: 47201OT46 | J58: 空港直送 | K58: 40 | M58: 0 | P58: 0
A59: 210 | C59: 005 | D59: 005糸満市 | J59: 全域 | K59: =SUM(SUMIFS(K60:K84,$G60:$G84,{"0","1"})) -> 4055 | L59: =SUM(SUMIFS(L60:L84,$G60:$G84,{"0","1"})) -> 0 | M59: =SUM(SUMIFS(M60:M85,$G60:$G85,{"0","1"})) -> 920 | N59: =SUM(SUMIFS(N60:N85,$G60:$G85,{"0","1"})) -> 0 | P59: 2
A60: 210 | B60: 糸満市 | C60: 005 | D60: 糸満市 | G60: 0 | H60: 0000306 | I60: 47210OT02 | J60: 兼城ハイツ | K60: 105 | M60: 0 | P60: 0
A61: 210 | B61: 糸満市 | C61: 005 | D61: 糸満市 | G61: 0 | H61: 0000308 | I61: 47210OT03 | J61: 糸満第一 | K61: 580 | M61: 220 | P61: 0
A62: 210 | B62: 糸満市 | C62: 005 | D62: 糸満市 | G62: 0 | H62: 0000310 | I62: 47210OT04 | J62: 真栄里 | K62: 90 | M62: 0 | P62: 0
A63: 210 | B63: 糸満市 | C63: 005 | D63: 糸満市 | G63: 0 | H63: 0000316 | I63: 47210OT06 | J63: 糸満第三(糸満) | K63: 245 | M63: 0 | P63: 0 | Q63: 26年3月 真壁の一部を吸収 | AH63: 1
A64: 210 | B64: 糸満市 | C64: 005 | D64: 糸満市 | G64: 0 | H64: 0000321 | I64: 47210OT07 | J64: 米須・大度 | K64: 195 | M64: 0 | P64: 0 | Q64: 25年5月 旧 米須が大度を吸収し、米須・大度へ名称変更
A65: 210 | B65: 糸満市 | C65: 005 | D65: 糸満市 | G65: 0 | H65: 0000322 | I65: 47210OT08 | J65: 大度 | K65: 0 | M65: 0 | P65: 0 | Q65: 25年5月廃店 米須に統合 | AI65: 2
A66: 210 | B66: 糸満市 | C66: 005 | D66: 糸満市 | G66: 0 | H66: 0000325 | I66: 47210OT09 | J66: 宇江城(糸満) | K66: 0 | M66: 0 | P66: 0 | Q66: 25年5月廃店 真栄平に統合 | AI66: 2
A67: 210 | B67: 糸満市 | C67: 005 | D67: 糸満市 | G67: 0 | H67: 0000326 | I67: 47210OT10 | J67: 真栄平・宇江城 | K67: 65 | M67: 0 | P67: 0 | Q67: 25年5月 旧 真栄平が宇江城を吸収し、真栄平・宇江城へ名称変更
A68: 210 | B68: 糸満市 | C68: 005 | D68: 糸満市 | G68: 0 | H68: 0000328 | I68: 47210OT11 | J68: 国吉 | K68: 0 | M68: 0 | P68: 0 | Q68: 25年4月廃店 糸満照屋に統合 | AI68: 2
A69: 210 | B69: 糸満市 | C69: 005 | D69: 糸満市 | G69: 0 | H69: 0000335 | I69: 47210OT12 | J69: 座波 | K69: 190 | M69: 75 | P69: 0
A70: 210 | B70: 糸満市 | C70: 005 | D70: 糸満市 | G70: 0 | H70: 0000337 | I70: 47210OT13 | J70: 北波平 | K70: 45 | M70: 0 | P70: 0
A71: 210 | B71: 糸満市 | C71: 005 | D71: 糸満市 | G71: 0 | H71: 0000338 | I71: 47210OT14 | J71: 武富 | K71: 70 | M71: 0 | P71: 0
A72: 210 | B72: 糸満市 | C72: 005 | D72: 糸満市 | G72: 0 | H72: 0000339 | I72: 47210OT15 | J72: 阿波根 | K72: 0 | M72: 0 | P72: 0 | AI72: 2
A73: 210 | B73: 糸満市 | C73: 005 | D73: 糸満市 | G73: 0 | H73: 0000343 | I73: 47210OT16 | J73: 糸満南 | K73: 480 | M73: 200 | P73: 0
A74: 210 | B74: 糸満市 | C74: 005 | D74: 糸満市 | G74: 0 | H74: 0000344 | I74: 47210OT17 | J74: 西崎西 | K74: 365 | M74: 150 | P74: 0
A75: 210 | B75: 糸満市 | C75: 005 | D75: 糸満市 | G75: 0 | H75: 0000348 | I75: 47210OT18 | J75: 真壁 | K75: 0 | M75: 0 | P75: 0 | Q75: 26年4月 廃店 | AH75: 1 | AI75: 2
A76: 210 | B76: 糸満市 | C76: 005 | D76: 糸満市 | G76: 0 | H76: 0000350 | I76: 47210OT19 | J76: 西崎東 | K76: 805 | M76: 150 | P76: 0
A77: 210 | B77: 糸満市 | C77: 005 | D77: 糸満市 | G77: 0 | H77: 0000351 | I77: 47210OT20 | J77: 糸満照屋・国吉 | K77: 335 | M77: 125 | P77: 0 | Q77: 25年4月 旧 糸満照屋が国吉を吸収し、糸満照屋・国吉へ名称変更
A78: 210 | B78: 糸満市 | C78: 005 | D78: 糸満市 | G78: 0 | H78: 0000352 | I78: 47210OT21 | J78: 糸満大里 | K78: 185 | M78: 0 | P78: 0
A79: 210 | B79: 糸満市 | C79: 005 | D79: 糸満市 | G79: 0 | H79: 0000353 | I79: 47210OT22 | J79: 与座 | K79: 0 | M79: 0 | P79: 0 | Q79: ※24年10月 廃店 糸満大里に統合
A80: 210 | B80: 糸満市 | C80: 005 | D80: 糸満市 | G80: 0 | H80: 0000354 | I80: 47210OT23 | J80: 糸満喜屋武 | K80: 75 | M80: 0 | P80: 0
A81: 210 | B81: 糸満市 | C81: 005 | D81: 糸満市 | G81: 0 | H81: 0000336 | I81: 47210OT24 | J81: 賀数 | K81: 150 | P81: 0
A82: 210 | B82: 糸満市 | C82: 005 | D82: 糸満市 | G82: 0 | H82: 0000355 | I82: 47210OT25 | J82: 糸満豊原 | K82: 25 | Q82: 26年1月 新販売店 八重瀬志多伯から25部分割
A83: 210 | B83: 糸満市 | C83: 005 | D83: 糸満市 | G83: 0 | H83: 0000356 | I83: 47210OT26 | J83: 糸満新垣 | K83: 25 | Q83: 26年2月 新販売店 真壁から30部分割
A84: 210 | B84: 糸満市 | C84: 005 | D84: 糸満市 | G84: 0 | H84: 0000357 | I84: 47210OT27 | J84: 摩文仁 | K84: 25 | Q84: 26年2月 新販売店 真壁から25部分割
A85: 212 | C85: 006 | D85: 006豊見城市 | J85: 全域 | K85: =SUM(SUMIFS(K86:K101,$G86:$G101,{"0","1"})) -> 4940 | L85: =SUM(SUMIFS(L86:L101,$G86:$G101,{"0","1"})) -> 0 | M85: =SUM(SUMIFS(M86:M101,$G86:$G101,{"0","1"})) -> 1545 | N85: =SUM(SUMIFS(N86:N101,$G86:$G101,{"0","1"})) -> 0 | P85: 2
A86: 212 | B86: 豊見城市 | C86: 006 | D86: 豊見城市 | G86: 0 | H86: 0000402 | I86: 47212OT01 | J86: 南部西販売センター | K86: 850 | M86: 160 | P86: 0 | Q86: 25年7月 翁長北を吸収
A87: 212 | B87: 豊見城市 | C87: 006 | D87: 豊見城市 | G87: 0 | H87: 0000405 | I87: 47212OT03 | J87: 我那覇 | K87: 395 | M87: 170 | P87: 0
A88: 212 | B88: 豊見城市 | C88: 006 | D88: 豊見城市 | G88: 0 | H88: 0000409 | I88: 47212OT04 | J88: 豊見城 | K88: 345 | M88: 85 | P88: 0
A89: 212 | B89: 豊見城市 | C89: 006 | D89: 豊見城市 | G89: 0 | H89: 0000413 | I89: 47212OT05 | J89: 真玉橋 | K89: 295 | M89: 125 | P89: 0
A90: 212 | B90: 豊見城市 | C90: 006 | D90: 豊見城市 | G90: 0 | H90: 0000415 | I90: 47212OT06 | J90: 根差部･饒波 | K90: 365 | M90: 120 | P90: 0
A91: 212 | B91: 豊見城市 | C91: 006 | D91: 豊見城市 | G91: 0 | H91: 0000416 | I91: 47212OT07 | J91: 嘉数(豊見城) | K91: 445 | M91: 60 | P91: 0
A92: 212 | B92: 豊見城市 | C92: 006 | D92: 豊見城市 | G92: 0 | H92: 0000417 | I92: 47212OT08 | J92: 金良･長堂 | K92: 0 | M92: 50 | P92: 0 | Q92: 廃店（嘉数に統合） | AI92: 2
A93: 212 | B93: 豊見城市 | C93: 006 | D93: 豊見城市 | G93: 0 | H93: 0000421 | I93: 47212OT09 | J93: 与根第一 | K93: 90 | M93: 0 | P93: 0
A94: 212 | B94: 豊見城市 | C94: 006 | D94: 豊見城市 | G94: 0 | H94: 0000422 | I94: 47212OT10 | J94: 与根第二 | K94: 100 | M94: 0 | P94: 0
A95: 212 | B95: 豊見城市 | C95: 006 | D95: 豊見城市 | G95: 0 | H95: 0000424 | I95: 47212OT11 | J95: 豊見城東販売センター | K95: 535 | M95: 240 | P95: 0
A96: 212 | B96: 豊見城市 | C96: 006 | D96: 豊見城市 | G96: 0 | H96: 0000426 | I96: 47212OT12 | J96: 翁長北 | K96: 0 | M96: 60 | P96: 0 | Q96: ※24年7月 廃店 南部西販売Ｃに統合 | AI96: 2
A97: 212 | B97: 豊見城市 | C97: 006 | D97: 豊見城市 | G97: 0 | H97: 0000428 | I97: 47212OT13 | J97: 保栄茂 | K97: 70 | M97: 0 | P97: 0 | AH97: 1
A98: 212 | B98: 豊見城市 | C98: 006 | D98: 豊見城市 | G98: 0 | H98: 0000430 | I98: 47212OT14 | J98: 豊見城ニュータウン | K98: 280 | M98: 60 | P98: 0
A99: 212 | B99: 豊見城市 | C99: 006 | D99: 豊見城市 | G99: 0 | H99: 0000431 | I99: 47212OT15 | J99: 上田 | K99: 370 | M99: 100 | P99: 0
A100: 212 | B100: 豊見城市 | C100: 006 | D100: 豊見城市 | G100: 0 | H100: 0000432 | I100: 47212OT16 | J100: 豊見城販売センター | K100: 800 | M100: 315 | P100: 0
...

Sheet 折込チラシ全域　申込書
A1: 折込日 | C1: 社名（請求先）
A2: 折込枚数 | C2: 住所
A3: サイズ | C3: クライアント名/チラシタイトル | G3: 備考：
C4: ='折込チラシ 申込書'!J4 -> 沖縄タイムス（折込申込書）【2026年10月】 | F4: 販売店の配布エリアと、行政区
A5: 電話： | C5: 総合計／申込み合計 | D5: =D7+D6 -> 113365 | E5: =SUM(E6:E7) -> 0 | F5: のエリアは必ずしも一致しません。
A6: ＦＡＸ： | C6: （本島合計） | D6: =SUM(D10:D50) -> 110360 | E6: =SUM(E10:E50) -> 0 | F6: 配布ＭＡＰをご参照下さい。
A7: 担当者： | C7: （離島合計） | D7: =SUM(D51:D62) -> 3005 | E7: =SUM(E51:E62) -> 0 | F7: ='折込チラシ 申込書'!O7 -> 2026/9/15現在
A9: 地域 | C9: 販売店 | D9: 基本部数 | E9: 申込枚数 | F9: 備考
A10: 那覇市 （旧那覇） | C10: 全域 | D10: ='折込チラシ 申込書'!K11 -> 7495
A11: 那覇市（旧真和志） | C11: 全域 | D11: ='折込チラシ 申込書'!K22 -> 12890
A12: 那覇市 （旧首里） | C12: 全域 | D12: ='折込チラシ 申込書'!K40 -> 6645
A13: 那覇市 （旧小禄） | C13: 全域 | D13: ='折込チラシ 申込書'!K50 -> 4970
A14: 糸満市 | C14: 全域 | D14: ='折込チラシ 申込書'!K59 -> 4055
A15: 豊見城市 | C15: 全域 | D15: ='折込チラシ 申込書'!K85 -> 4940
A16: 南城市 （旧玉城村） | C16: 全域 | D16: ='折込チラシ 申込書'!K103 -> 860
A17: 南城市 （旧知念村） | C17: 全域 | D17: ='折込チラシ 申込書'!K118 -> 425
A18: 南城市 （旧佐敷町） | C18: 全域 | D18: ='折込チラシ 申込書'!K128 -> 1185
A19: 南城市 （旧大里村） | C19: 全域 | D19: ='折込チラシ 申込書'!K138 -> 1230
A20: 八重瀬町 （旧具志頭） | C20: 全域 | D20: ='折込チラシ 申込書'!K151 -> 980
A21: 八重瀬町 （旧東風平） | C21: 全域 | D21: ='折込チラシ 申込書'!K156 -> 1775
A22: 南風原町 | C22: 全域 | D22: ='折込チラシ 申込書'!K163 -> 2715
A23: 与那原町 | C23: 全域 | D23: ='折込チラシ 申込書'!K174 -> 1415
A24: 西原町 | C24: 全域 | D24: ='折込チラシ 申込書'!K180 -> 3260
A25: 浦添市 | C25: 全域 | D25: ='折込チラシ 申込書'!K189 -> 10255
A26: 宜野湾市 | C26: 全域 | D26: ='折込チラシ 申込書'!K209 -> 8635
A27: 中城村 | C27: 全域 | D27: ='折込チラシ 申込書'!K225 -> 1685
A28: 北中城村 | C28: 全域 | D28: ='折込チラシ 申込書'!K241 -> 750
A29: 沖縄市 （旧コザ） | C29: 全域 | D29: ='折込チラシ 申込書'!K249 -> 4285
A30: 沖縄市 （旧美里） | C30: 全域 | D30: ='折込チラシ 申込書'!K259 -> 6585
A31: 北谷町 | C31: 全域 | D31: ='折込チラシ 申込書'!K271 -> 1380
A32: 嘉手納町 | C32: 全域 | D32: ='折込チラシ 申込書'!K279 -> 1245
A33: 読谷村 | C33: 全域 | D33: ='折込チラシ 申込書'!K283 -> 3305
A34: うるま市 （旧具志川） | C34: 全域 | D34: ='折込チラシ 申込書'!K297 -> 5225
A35: うるま市 （旧勝連） | C35: 全域 | D35: ='折込チラシ 申込書'!K315 -> 750
A36: うるま市 （旧与那城） | C36: 全域 | D36: ='折込チラシ 申込書'!K323 -> 465
A37: うるま市 （旧石川） | C37: 全域 | D37: ='折込チラシ 申込書'!K333 -> 1570
A38: 名護市 （旧名護） | C38: 全域 | D38: ='折込チラシ 申込書'!K342 -> 3190
A39: 名護市 （旧屋部） | C39: 全域 | D39: ='折込チラシ 申込書'!K359 -> 700
A40: 名護市 （旧羽地） | C40: 全域 | D40: ='折込チラシ 申込書'!K366 -> 500
A41: 名護市 （旧屋我地） | C41: 全域 | D41: ='折込チラシ 申込書'!K377 -> 115
A42: 名護市 （旧久志） | C42: 全域 | D42: ='折込チラシ 申込書'!K384 -> 275
A43: 恩納村 | C43: 全域 | D43: ='折込チラシ 申込書'!K398 -> 660
A44: 金武町 | C44: 全域 | D44: ='折込チラシ 申込書'!K416 -> 755
A45: 宜野座村 | C45: 全域 | D45: ='折込チラシ 申込書'!K422 -> 475
A46: 本部町 | C46: 全域 | D46: ='折込チラシ 申込書'!K429 -> 1130
A47: 今帰仁村 | C47: 全域 | D47: ='折込チラシ 申込書'!K450 -> 715
A48: 大宜味村 | C48: 全域 | D48: ='折込チラシ 申込書'!K471 -> 265
A49: 東村 | C49: 全域 | D49: ='折込チラシ 申込書'!K489 -> 165
A50: 国頭村 | C50: 全域 | D50: ='折込チラシ 申込書'!K496 -> 440
A51: 宮古 全域* | C51: 全域 | D51: ='折込チラシ 申込書'!K516 -> 905
A52: 八重山 全域* | C52: 全域 | D52: ='折込チラシ 申込書'!K527 -> 925
A53: 久米島町* | C53: 全域 | D53: ='折込チラシ 申込書'!K543 -> 425
A54: 伊江村* | C54: 全域 | D54: ='折込チラシ 申込書'!K555 -> 460
A55: 伊是名村* | C55: 全域 | D55: ='折込チラシ 申込書'!K557 -> 70
A56: 伊平屋村* | C56: 全域 | D56: ='折込チラシ 申込書'!K559 -> 60
A57: 渡名喜村 | C57: 全域 | D57: ='折込チラシ 申込書'!K565 -> 15
A58: 渡嘉敷村* | C58: 全域 | D58: ='折込チラシ 申込書'!K567 -> 25
A59: 座間味村* | C59: 全域 | D59: ='折込チラシ 申込書'!K569 -> 45
A60: 粟国村* | C60: 全域 | D60: ='折込チラシ 申込書'!K572 -> 25
A61: 南大東村* | C61: 全域 | D61: ='折込チラシ 申込書'!K574 -> 50
A62: 県外離島 全域 | C62: 全域 | D62: ='折込チラシ 申込書'!K576 -> 0
